BEGIN:VCALENDAR
VERSION:2.0
PRODID:-//ChamberMaster//Event Calendar 2.0//EN
METHOD:PUBLISH
X-PUBLISHED-TTL:P3D
REFRESH-INTERVAL:P3D
CALSCALE:GREGORIAN
BEGIN:VEVENT
DTSTART:20191108T233000Z
DTEND:20191109T003000Z
X-MICROSOFT-CDO-ALLDAYEVENT:FALSE
SUMMARY:2020 NYSCA/NYFA Artist Fellowship Information Session
DESCRIPTION:If you're interested in applying for a 2020 NYSCA/NYFA Artist Fellowship and want to learn more\, we encourage you to attend an upcoming information session led by the Awards and Grants team at NYFA on November 8 from 6:30-7:30pm at The ARTS Council of the Southern Finger Lakes. We'll go over the guidelines and application process\, and answer any individual questions you might have. \n\n\n\nThe upcoming 2020 cycle will accept applications in the following disciplines: Craft/Sculpture\, Digital/Electronic Arts\, Nonfiction Literature\, Poetry and Printmaking/Drawing/Book Arts.\n\n\n\nThis event is FREE. Please register your attendance!\n\n\n\nContact Christina@eARTS.org with questions or concerns. \n\n\n\nFull Event Information: https://www.facebook.com/events/403570670301097/\n\nStraight to Registration: http://bit.ly/ArtFellowInfo
X-ALT-DESC;FMTTYPE=text/html:<span style="font-size:11px"><span style="font-family:verdana"><span style="color:rgb(29\, 33\, 41)">If you&rsquo\;re interested in applying for a <strong>2020 NYSCA/NYFA Artist Fellowship</strong> and want to learn more\, we encourage you to attend an upcoming information session led by the Awards and Grants team at NYFA on <strong>November 8</strong> from <strong>6:30-7:30pm</strong> at <strong>The ARTS Council of the Southern Finger Lakes</strong>. We&#39\;ll go over the guidelines and application process\, and answer any individual questions you might have. </span><br />\n<br />\nThe upcoming 2020 cycle will accept applications in the following disciplines: Craft/Sculpture\, Digital/Electronic Arts\, Nonfiction Literature\, Poetry and Printmaking/Drawing/Book Arts.<br />\n<br />\n<span style="color:rgb(29\, 33\, 41)"><strong>This event is FREE.</strong>&nbsp\;<u>Please register your attendance!</u></span><br />\n<br />\n<span style="color:rgb(29\, 33\, 41)">Contact <a href="mailto:Christina@eARTS.org?subject=NYSCA%2FNYFA%20Artist%20Fellowship%20Info%20Session">Christina@eARTS.org</a> with questions or concerns. </span><br />\n<br />\nFull Event Information:&nbsp\;<a href="https://www.facebook.com/events/403570670301097/">https://www.facebook.com/events/403570670301097/</a><br />\nStraight to Registration: <a href="http://bit.ly/ArtFellowInfo">http://bit.ly/ArtFellowInfo</a></span></span>
LOCATION:The ARTS Council of the Southern Finger Lakes 79 W Market St. Corning\, NY 14830
UID:e.869.10761
SEQUENCE:3
DTSTAMP:20260420T022846Z
URL:https://www.corningny.com/events/details/2020-nysca-nyfa-artist-fellowship-information-session-10761
END:VEVENT

END:VCALENDAR
