BEGIN:VCALENDAR
VERSION:2.0
PRODID:-//ChamberMaster//Event Calendar 2.0//EN
METHOD:PUBLISH
X-PUBLISHED-TTL:P3D
REFRESH-INTERVAL:P3D
CALSCALE:GREGORIAN
BEGIN:VEVENT
DTSTART;VALUE=DATE:20210923
DTEND;VALUE=DATE:20211210
TRANSP:TRANSPARENT
X-MICROSOFT-CDO-ALLDAYEVENT:TRUE
SUMMARY:2022 SCR Grants
DESCRIPTION:2022 SCR Grants \n\nCommunity Arts\, Teaching Artist\, and Individual Artist Grants\n\n\n\nThe ARTS Council of the Southern Finger Lakes in partnership with the New York State Council on the Arts is pleased to announce the 2022 Community Arts\, Teaching Artist\, & Individual Artist Grants for artists\, organizations\, towns\, and more in Cattaraugus\, Chemung\, Schuyler\, Steuben\, and Tioga counties!\n\n\n\n\n\nApply By: Friday\, December 10\, 2021\n\nhttps://earts.submittable.com/submit\n\n\n	Community Arts grants support the activities of artists community organizations in service to local residents. Grants range from $500 to $5\,000. More information can be found on the Community Arts grant page.\n	Teaching Artist grants support sequential\, arts education projects for K-12 students through in-school or after-school projects in schools or community centers. Grants range from $500 to $5\,000. More information can be found on the Teaching Artist grant page.\n	Individual Artist grants support the creation of new work by individual artists.  Grants range from $1\,000 to $2\,500. More information can be found on the Individual Artist grant page.\n\n\nThis project is made possible with funds from the Statewide Community Regrants Program (SCR)\, a regrant program of the New York State Council on the Arts with the support of the Office of the Governor and the New York State Legislature and administered by The ARTS Council of the Southern Finger Lakes.
X-ALT-DESC;FMTTYPE=text/html:<div>\n<div><strong>2022 SCR Grants&nbsp\;</strong></div>\n\n<div><strong>Community Arts\, Teaching Artist\, and Individual Artist Grants</strong><br />\n<br />\nThe ARTS Council of the Southern Finger Lakes in partnership with the New York State Council on the Arts is pleased to announce the 2022 Community Arts\, Teaching Artist\, &amp\; Individual Artist Grants for artists\, organizations\, towns\, and more in Cattaraugus\, Chemung\, Schuyler\, Steuben\, and Tioga counties!</div>\n</div>\n\n<div>\n<div><br />\n<strong>Apply By</strong>: Friday\, December 10\, 2021</div>\n\n<div><span style="font-family:inherit"><a class="oajrlxb2 g5ia77u1 qu0x051f esr5mh6w e9989ue4 r7d6kgcz rq0escxv nhd2j8a9 nc684nl6 p7hjln8o kvgmc6g5 cxmmr5t8 oygrvhab hcukyx3x jb3vyjys rz4wbd8a qt6c0cv9 a8nywdso i1ao9s8h esuyzwwr f1sip0of lzcic4wl py34i1dx gpro0wi8" href="https://earts.submittable.com/submit" rel="nofollow noopener" style="color: var(--blue-link)\; cursor: pointer\; text-decoration-line: none\; outline: none\; list-style: none\; border-width: 0px\; border-style: initial\; border-color: initial\; padding: 0px\; margin: 0px\; touch-action: manipulation\; background-color: transparent\; text-align: inherit\; display: inline\; -webkit-tap-highlight-color: transparent\; box-sizing: border-box\; font-family: inherit\;" tabindex="0" target="_blank"><strong>https://earts.submittable.com/submit</strong></a></span>\n\n<ul>\n	<li><strong>Community Arts grants&nbsp\;</strong>support the activities of artists community organizations in service to local residents. Grants range from $500 to $5\,000. More information can be found on the&nbsp\;<a href="https://www.earts.org/grants/grants-for-organizations/community-arts" rel="noopener" style="box-sizing: inherit\; background-color: transparent\; color: rgb(112\, 60\, 137)\; transition: color 0.15s ease 0s\; cursor: pointer\;" target="_blank"><strong>Community Arts grant page</strong></a>.</li>\n	<li><strong>Teaching Artist grants&nbsp\;</strong>support sequential\, arts education projects for K-12 students through in-school or after-school projects in schools or community centers. Grants range from $500 to $5\,000. More information can be found on the&nbsp\;<a href="https://www.earts.org/grants/grants-for-individuals/teaching-artist/" rel="noopener" style="box-sizing: inherit\; background-color: transparent\; color: rgb(112\, 60\, 137)\; transition: color 0.15s ease 0s\; cursor: pointer\;" target="_blank"><strong>Teaching Artist grant page</strong></a>.</li>\n	<li><strong>Individual Artist grants&nbsp\;</strong>support the creation of new work by individual artists.&nbsp\; Grants range from $1\,000 to $2\,500. More information can be found on the&nbsp\;<a href="https://www.earts.org/grants/grants-for-individuals/individual-artist/" rel="noopener" style="box-sizing: inherit\; background-color: transparent\; color: rgb(112\, 60\, 137)\; transition: color 0.15s ease 0s\; cursor: pointer\;" target="_blank"><strong>Individual Artist&nbsp\;grant page</strong></a>.</li>\n</ul>\n\n<p><em>This project is made possible with funds from the Statewide Community Regrants Program (SCR)\,&nbsp\;a regrant program of the New York State Council on the Arts with the support of the&nbsp\;Office of the Governor&nbsp\;and the New York State Legislature and administered by The ARTS Council of the Southern Finger Lakes.</em></p>\n</div>\n</div>\n
LOCATION:https://earts.submittable.com/submit
UID:e.869.11940
SEQUENCE:3
DTSTAMP:20260423T102521Z
URL:https://www.corningny.com/events/details/2022-scr-grants-11940
END:VEVENT

END:VCALENDAR
