BEGIN:VCALENDAR
VERSION:2.0
PRODID:-//ChamberMaster//Event Calendar 2.0//EN
METHOD:PUBLISH
X-PUBLISHED-TTL:P3D
REFRESH-INTERVAL:P3D
CALSCALE:GREGORIAN
BEGIN:VEVENT
DTSTART:20230207T140000Z
DTEND:20230207T220000Z
X-MICROSOFT-CDO-ALLDAYEVENT:FALSE
SUMMARY:2023 Winter Member Show
DESCRIPTION:The Evelyn Peeler Peacock Gallery at The ARTS Council of the Southern Finger Lakes is proud to present the 2023 Winter Member Show!\n\n\n\nFeaturing dozens of regional artists representing a wide diversity of artistic mediums\, the 2023 Winter Member Show is on display Monday to Friday\, 9am-5pm\, February 25.
X-ALT-DESC;FMTTYPE=text/html:<a href="https://earts.us10.list-manage.com/track/click?u=bd61b5c1039c78879b4aa968d&amp\;id=587ee64536&amp\;e=6a6934cce0" style="font-family: arial\, sans-serif\; color: rgb(176\, 188\, 34)\; font-size: 12px\; background-color: rgb(250\, 250\, 250)\; font-weight: bold\;" target="_blank"><span style="color:rgb(255\, 102\, 51)">The Evelyn Peeler Peacock&nbsp\;Gallery</span></a><span style="background-color:rgb(250\, 250\, 250)\; color:rgb(101\, 101\, 101)\; font-family:arial\,sans-serif\; font-size:12px">&nbsp\;at&nbsp\;</span><a href="https://earts.us10.list-manage.com/track/click?u=bd61b5c1039c78879b4aa968d&amp\;id=b8b171ce06&amp\;e=6a6934cce0" style="font-family: arial\, sans-serif\; color: rgb(176\, 188\, 34)\; font-size: 12px\; background-color: rgb(250\, 250\, 250)\; font-weight: bold\;" target="_blank"><span style="color:rgb(255\, 102\, 51)">The ARTS Council of the Southern Finger Lakes</span></a><span style="background-color:rgb(250\, 250\, 250)\; color:rgb(101\, 101\, 101)\; font-family:arial\,sans-serif\; font-size:12px">&nbsp\;is proud to present the&nbsp\;</span><span style="background-color:rgb(250\, 250\, 250)\; color:rgb(101\, 101\, 101)\; font-family:arial\,sans-serif"><span style="font-family:georgia\,times\,times new roman\,serif"><em>2023 Winter Member Show</em></span></span><span style="background-color:rgb(250\, 250\, 250)\; color:rgb(101\, 101\, 101)\; font-family:arial\,sans-serif\; font-size:12px">!</span><br />\n<br />\n<span style="background-color:rgb(250\, 250\, 250)\; color:rgb(101\, 101\, 101)\; font-family:arial\,sans-serif\; font-size:12px">Featuring dozens of regional artists representing a wide diversity of artistic mediums\, the&nbsp\;</span><span style="background-color:rgb(250\, 250\, 250)\; color:rgb(101\, 101\, 101)\; font-family:arial\,sans-serif"><span style="font-family:georgia\,times\,times new roman\,serif"><em>2023 Winter Member Show</em></span></span><span style="background-color:rgb(250\, 250\, 250)\; color:rgb(101\, 101\, 101)\; font-family:arial\,sans-serif\; font-size:12px">&nbsp\;is on display Monday to Friday\, 9am-5pm\, February 25.</span>
LOCATION:79 W Market St Corning\, NY 14830
UID:e.869.14050
SEQUENCE:3
DTSTAMP:20260424T155048Z
URL:https://www.corningny.com/events/details/2023-winter-member-show-14050
END:VEVENT

END:VCALENDAR
