BEGIN:VCALENDAR
VERSION:2.0
PRODID:-//ChamberMaster//Event Calendar 2.0//EN
METHOD:PUBLISH
X-PUBLISHED-TTL:P3D
REFRESH-INTERVAL:P3D
CALSCALE:GREGORIAN
BEGIN:VEVENT
DTSTART:20230216T230000Z
DTEND:20230217T010000Z
X-MICROSOFT-CDO-ALLDAYEVENT:FALSE
SUMMARY:2300° February 2023
DESCRIPTION:Get fired up and join us for the return of 2300 ! Enjoy high-energy glassmaking demonstrations with the scene's best artists\, live music\, food\, and drinks.\n\nFree and open to the public. Free shuttle bus service from the Museum's I-86 parking lot is available.
X-ALT-DESC;FMTTYPE=text/html:<p style="margin-left:0px\; margin-right:0px">Get fired up and join us for the return of&nbsp\;2300&deg\;! Enjoy high-energy glassmaking demonstrations with the scene&#39\;s best artists\, live music\, food\, and drinks.</p>\n\n<p>Free and open to the public.&nbsp\;Free shuttle bus service from the Museum&rsquo\;s I-86 parking lot is available.</p>\n
LOCATION:
UID:e.869.14033
SEQUENCE:3
DTSTAMP:20260424T141646Z
URL:https://www.corningny.com/events/details/2300-february-2023-14033
END:VEVENT

END:VCALENDAR
