BEGIN:VCALENDAR
VERSION:2.0
PRODID:-//ChamberMaster//Event Calendar 2.0//EN
METHOD:PUBLISH
X-PUBLISHED-TTL:P3D
REFRESH-INTERVAL:P3D
CALSCALE:GREGORIAN
BEGIN:VEVENT
DTSTART;VALUE=DATE:20190126
DTEND;VALUE=DATE:20190128
TRANSP:TRANSPARENT
X-MICROSOFT-CDO-ALLDAYEVENT:TRUE
SUMMARY:24-in-48 Readathon
DESCRIPTION:We're setting a lofty goal that we hope you'll set with us! 24in48.com promotes reading for 24 hours in a 48-hour period\, which we haven't done since we had summers off as teenagers!\n\n\n\nThe selected 48-hour period is Saturday\, 1/26 and Sunday\, 1/27. You're welcome to spend Saturday in the bookstore with us (we'll be open from 10a - 6p)\, taking breaks as necessary to make yourself another hot bevvie in our Keurig :) Bring a book from home\, and when you finish it\, we hope you'll buy a new one from us!\n\n\n\nOn Sunday\, we'll be posting from home as the bookstore will be closed\, but we hope you'll keep the mission going and share your own reading pics with us. Tag us on social media: @cardcarryingshop on instagram and @cardcarryingbks on twitter! Use #24in48 to join in the nationwide fun!
X-ALT-DESC;FMTTYPE=text/html:We&#39\;re setting a lofty goal that we hope you&#39\;ll set with us! <a href="https://l.facebook.com/l.php?u=http%3A%2F%2F24in48.com%2F%3Ffbclid%3DIwAR3dUNxRfwMys8bho7M6UsE0kwCV23BCTraICk6R6tJOnncG7zfy6Xsg-Tk&amp\;h=AT1rRr8uwwZwyKh_rgvYH6saI6TLJvj-RtqN5zn2I_dfH9CZUOTpkypabPEbQkV2fq503LYByunHNk62CeSrj8eKtNVtROa6Hbcc8WyrXyI2L0YwB-3Ume49Z-lO0ciHzvlH_8fhkdvFI-S5" rel="nofollow noopener" target="_blank">24in48.com</a> promotes reading for 24 hours in a 48-hour period\, which we haven&#39\;t done since we had summers off as teenagers!<br />\n<br />\nThe selected 48-hour period is Saturday\, 1/26 and Sunday\, 1/27. You&#39\;re welcome to spend Saturday in the bookstore with us (we&#39\;ll be open from 10a - 6p)\, taking breaks as necessary to make yourself another hot bevvie in our Keurig :) Bring a book from home\, and when you finish it\, we hope you&#39\;ll buy a new one from us!<br />\n<br />\nOn Sunday\, we&#39\;ll be posting from home as the bookstore will be closed\, but we hope you&#39\;ll keep the mission going and share your own reading pics with us. Tag us on social media: @cardcarryingshop on instagram and @cardcarryingbks on twitter! Use <a href="https://www.facebook.com/hashtag/24in48" target="_blank">#24in48</a> to join in the nationwide fun!
LOCATION:Card Carrying Books & Gifts - or wherever you happen to be!
UID:e.869.10137
SEQUENCE:3
DTSTAMP:20260419T121618Z
URL:https://www.corningny.com/events/details/24-in-48-readathon-10137
END:VEVENT

END:VCALENDAR
