BEGIN:VCALENDAR
VERSION:2.0
PRODID:-//ChamberMaster//Event Calendar 2.0//EN
METHOD:PUBLISH
X-PUBLISHED-TTL:P3D
REFRESH-INTERVAL:P3D
CALSCALE:GREGORIAN
BEGIN:VEVENT
DTSTART:20230603T230000Z
DTEND:20230604T030000Z
X-MICROSOFT-CDO-ALLDAYEVENT:FALSE
SUMMARY:5th Annual Kaleidoscope\, a Grand Soirée benefiting 171 Cedar Arts Center
DESCRIPTION:The fun starts at 7:00 pm on June 3rd at the Corning Museum of Glass Auditorium!\n\nThis is 171 Cedar Arts Center's premier annual fundraising event\; kaleidoscope of art\, music\, and fun!\n\nAn artful evening of art\, fun\, food\, dancing\, a live auction\, and more!
X-ALT-DESC;FMTTYPE=text/html:<div>The fun starts at 7:00 pm on June 3rd at the Corning Museum of Glass Auditorium!<br />\nThis is 171 Cedar Arts Center&rsquo\;s premier annual fundraising event\; kaleidoscope of art\, music\, and fun!</div>\n\n<div>An artful evening of art\, fun\, food\, dancing\, a live auction\, and more!</div>\n
LOCATION:Corning Museum of Glass Auditorium
UID:e.869.14024
SEQUENCE:3
DTSTAMP:20260420T144921Z
URL:https://www.corningny.com/events/details/5th-annual-kaleidoscope-a-grand-soir&#233;e-benefiting-171-cedar-arts-center-14024
END:VEVENT

END:VCALENDAR
