BEGIN:VCALENDAR
VERSION:2.0
PRODID:-//ChamberMaster//Event Calendar 2.0//EN
METHOD:PUBLISH
X-PUBLISHED-TTL:P3D
REFRESH-INTERVAL:P3D
CALSCALE:GREGORIAN
BEGIN:VEVENT
DTSTART:20200118T160000Z
DTEND:20200118T190000Z
X-MICROSOFT-CDO-ALLDAYEVENT:FALSE
SUMMARY:All About” Series with Brud Holland
DESCRIPTION:All About Soups & Bread with Brud Holland
X-ALT-DESC;FMTTYPE=text/html:<h4 class="bundled_product_title product_title"><span class="bundled_product_title_inner">All About Soups &amp\; Bread with Brud Holland&nbsp\;</span></h4>\n
LOCATION:171 Cedar Arts Center
UID:e.869.11042
SEQUENCE:3
DTSTAMP:20260423T060019Z
URL:https://www.corningny.com/events/details/all-about-series-with-brud-holland-11042
END:VEVENT

END:VCALENDAR
