BEGIN:VCALENDAR
VERSION:2.0
PRODID:-//ChamberMaster//Event Calendar 2.0//EN
METHOD:PUBLISH
X-PUBLISHED-TTL:P3D
REFRESH-INTERVAL:P3D
CALSCALE:GREGORIAN
BEGIN:VEVENT
DTSTART:20221020T220000Z
DTEND:20221021T010000Z
X-MICROSOFT-CDO-ALLDAYEVENT:FALSE
SUMMARY:Annual Ennion Dinner
DESCRIPTION:As a thank you for your generous support\, we invite Ennion members to a memorable evening of fine food\, drink\, and conversation. The dinner's theme will focus on the Museum's 2022 major exhibition\, Past | Present: Expanding the Stories of Glass\, and a thrilling reveal of our vision for the future of glass.
X-ALT-DESC;FMTTYPE=text/html:<span style="color:rgb(0\, 0\, 0)\; font-family:avenirltpro\,avenir\,century gothic\,centurygothic\,applegothic\,sans-serif\; font-size:18px">As a thank you for your generous support\, we invite Ennion members to a memorable evening of fine food\, drink\, and conversation. The dinner&rsquo\;s theme will focus on&nbsp\;the Museum&#39\;s 2022 major exhibition\,&nbsp\;</span><a href="https://whatson.cmog.org/exhibitions-galleries/past-present-expanding-stories-glass" style="box-sizing: border-box\; margin: 0px\; padding: 0px\; font-size: 18px\; vertical-align: baseline\; background-image: initial\; background-position: initial\; background-size: initial\; background-repeat: initial\; background-attachment: initial\; background-origin: initial\; background-clip: initial\; text-decoration-line: none\; font-weight: 600\; color: var(--teal)\; transition: color 0.4s ease 0s\; font-family: AvenirLTPro\, Avenir\, &quot\;Century Gothic&quot\;\, CenturyGothic\, AppleGothic\, sans-serif\;">Past | Present: Expanding the Stories of Glass</a><span style="color:rgb(0\, 0\, 0)\; font-family:avenirltpro\,avenir\,century gothic\,centurygothic\,applegothic\,sans-serif\; font-size:18px">\,</span><span style="color:rgb(0\, 0\, 0)\; font-family:avenirltpro\,avenir\,century gothic\,centurygothic\,applegothic\,sans-serif\; font-size:18px">&nbsp\;</span><span style="color:rgb(0\, 0\, 0)\; font-family:avenirltpro\,avenir\,century gothic\,centurygothic\,applegothic\,sans-serif\; font-size:18px">and a thrilling reveal of our vision for the future of glass.</span>
LOCATION:The Corning Museum of Glass
UID:e.869.14001
SEQUENCE:3
DTSTAMP:20260424T015141Z
URL:https://www.corningny.com/events/details/annual-ennion-dinner-14001
END:VEVENT

END:VCALENDAR
