BEGIN:VCALENDAR
VERSION:2.0
PRODID:-//ChamberMaster//Event Calendar 2.0//EN
METHOD:PUBLISH
X-PUBLISHED-TTL:P3D
REFRESH-INTERVAL:P3D
CALSCALE:GREGORIAN
BEGIN:VEVENT
DTSTART:20210910T230000Z
DTEND:20210911T010000Z
X-MICROSOFT-CDO-ALLDAYEVENT:FALSE
SUMMARY:Awaken the Spirits
DESCRIPTION:Join us for Awaken the Spirits at the Heritage Village for a guided ghost hunt.  Adults and children above 10 are welcome to attend.  Spirit activity is never guaranteed.  The hunt is for education and entertainment only.  Advance tickets required and available on line at our website or by phone 607 937-8251.
X-ALT-DESC;FMTTYPE=text/html:Join us for Awaken the Spirits at the Heritage Village for a guided ghost hunt.&nbsp\; Adults and children above 10 are welcome to attend.&nbsp\; Spirit activity is never guaranteed.&nbsp\; The hunt is for education and entertainment only.&nbsp\; Advance tickets required and available on line at our website or by phone 607 937-8251.
LOCATION:Heritage Village of the Southern Finger Lakes 73 West Pulteney St. Corning\, NY 14830
UID:e.869.11915
SEQUENCE:3
DTSTAMP:20260423T103208Z
URL:https://www.corningny.com/events/details/awaken-the-spirits-09-10-2021-11915
END:VEVENT

END:VCALENDAR
