BEGIN:VCALENDAR
VERSION:2.0
PRODID:-//ChamberMaster//Event Calendar 2.0//EN
METHOD:PUBLISH
X-PUBLISHED-TTL:P3D
REFRESH-INTERVAL:P3D
CALSCALE:GREGORIAN
BEGIN:VEVENT
DTSTART:20260131T140000Z
DTEND:20260131T170000Z
X-MICROSOFT-CDO-ALLDAYEVENT:FALSE
SUMMARY:Beginner Sewing 1: Your Essential Introduction to the Sewing Machine - Make a Drawstring Bag
DESCRIPTION:Learn to sew from the very beginning! In this hands-on intro class\, you'll get comfortable with a sewing machine\, learn basic sewing vocabulary\, and explore different types of fabrics. You'll practice sewing straight seams and simple seam finishes\, then put your new skills to use by making a handy drawstring bag to take home.\n\n?? Key Techniques Covered\n\n\n	Machine threading\n	Basic stitches\n	Fabric grain\n	Seam allowances\n	Simple seam finishes\n\n\n? Prerequisites\n\nNone! This class is specifically designed for the total beginner. No prior experience.  (NOTE: if you took our beginner sewing class in 2025\, you have mastered this lesson and can skip to the next class.)\n\n\n\n?? ALL supplies included in your class fee.  Bring your own sewing machine (out of the box\, if it's new).\n\nTAKE 10% OFF your purchase of TWO sewing classes or 15% off your purchase of THREE sewing classes in this series
X-ALT-DESC;FMTTYPE=text/html:<p>Learn to sew from the very beginning! In this&nbsp\;<strong>hands-on&nbsp\;</strong>intro class\, you&rsquo\;ll get comfortable with a sewing machine\, learn basic sewing vocabulary\, and explore different types of fabrics. You&rsquo\;ll practice sewing straight seams and simple seam finishes\, then put your new skills to use by making a handy&nbsp\;<strong>drawstring bag&nbsp\;</strong>to take home.</p>\n\n<h3>??&nbsp\;<strong>Key Techniques Covered</strong></h3>\n\n<ul>\n	<li>Machine threading</li>\n	<li>Basic stitches</li>\n	<li>Fabric grain</li>\n	<li>Seam allowances</li>\n	<li>Simple seam finishes</li>\n</ul>\n\n<h3><strong>? Prerequisites</strong></h3>\n\n<p>None! This class is specifically designed for the&nbsp\;<strong>total beginner.</strong>&nbsp\;No prior experience.&nbsp\; (NOTE: if you took our beginner sewing class in 2025\, you have mastered this lesson and can skip to the next class.)</p>\n\n<p><br />\n<strong>?? ALL supplies included in your class fee.&nbsp\;&nbsp\;Bring your own sewing machine (out of the box\, if it&#39\;s new).</strong></p>\n\n<p><span style="color:rgb(43\, 0\, 255)"><strong>TAKE 10% OFF your purchase of TWO sewing classes or 15% off your purchase of THREE sewing classes in this series</strong></span></p>\n
LOCATION:Rabbit Row Yarns & Haberdashery 24 E Market St Corning NY 14830
UID:e.869.19636
SEQUENCE:3
DTSTAMP:20260420T214303Z
URL:https://www.corningny.com/events/details/beginner-sewing-1-your-essential-introduction-to-the-sewing-machine-make-a-drawstring-bag-19636
END:VEVENT

END:VCALENDAR
