BEGIN:VCALENDAR
VERSION:2.0
PRODID:-//ChamberMaster//Event Calendar 2.0//EN
METHOD:PUBLISH
X-PUBLISHED-TTL:P3D
REFRESH-INTERVAL:P3D
CALSCALE:GREGORIAN
BEGIN:VEVENT
DTSTART:20260228T140000Z
DTEND:20260228T170000Z
X-MICROSOFT-CDO-ALLDAYEVENT:FALSE
SUMMARY:Beginner Sewing 2: Polished Finishes: Seams\, Hems and Button Closures - Sew an Envelope Pillow with Buttons
DESCRIPTION:Build on your basics with a practical home d cor project. In this class\, you'll learn how to sew neat hems\, refine your seam finishes\, and work with corners. You'll also discover how to create buttonholes on a sewing machine and sew buttons that align perfectly.  By the end of class\, you'll have sewn an envelope-style pillow cover with a button closure.\n\n?? What you will master:\n\n\n	Hems\n	Pressing & Seam Finishes\n	Buttonholes\n	Sewing Buttons\n	Reading Simple Measurements for a Project\n\n\n? Prerequisites  \n\nSuccessful completion of Beginner Sewing 1or equivalent experience is required. You should be comfortable with machine threading\, basic stitch functions\, and sewing a consistent straight seam.  \n\n?? ALL supplies included in your class fee.  Bring your own sewing machine (out of the box\, if it's new).\n\nTAKE 10% OFF your purchase of TWO sewing classes or 15% off your purchase of THREE sewing classes in this series
X-ALT-DESC;FMTTYPE=text/html:<p>Build on your basics with a&nbsp\;<strong>practical home d&eacute\;cor project</strong>. In this class\, you&rsquo\;ll learn how to sew neat hems\, refine your seam finishes\, and work with corners. You&rsquo\;ll also discover how to create buttonholes on a sewing machine and sew buttons that align perfectly.&nbsp\; By the end of class\, you&rsquo\;ll have sewn an&nbsp\;<strong>envelope-style pillow cover with a button closure</strong>.</p>\n\n<h3>?? What you will master:</h3>\n\n<ul>\n	<li>Hems</li>\n	<li>Pressing &amp\; Seam Finishes</li>\n	<li>Buttonholes</li>\n	<li>Sewing Buttons</li>\n	<li>Reading Simple Measurements for a Project</li>\n</ul>\n\n<h3>? Prerequisites &nbsp\;</h3>\n\n<p>Successful completion of<strong>&nbsp\;Beginner Sewing 1</strong>or equivalent experience is required. You should be comfortable with machine threading\, basic stitch functions\, and sewing a consistent straight seam. &nbsp\;</p>\n\n<p><strong>?? ALL supplies included in your class fee.&nbsp\;&nbsp\;Bring your own sewing machine (out of the box\, if it&#39\;s new).</strong></p>\n\n<p><span style="color:rgb(43\, 0\, 255)"><strong>TAKE 10% OFF your purchase of TWO sewing classes or 15% off your purchase of THREE sewing classes in this series</strong></span></p>\n
LOCATION:Rabbit Row Yarns & Haberdashery 24 E Market St Corning NY 14830
UID:e.869.19637
SEQUENCE:3
DTSTAMP:20260420T203106Z
URL:https://www.corningny.com/events/details/beginner-sewing-2-polished-finishes-seams-hems-and-button-closures-sew-an-envelope-pillow-with-buttons-19637
END:VEVENT

END:VCALENDAR
