BEGIN:VCALENDAR
VERSION:2.0
PRODID:-//ChamberMaster//Event Calendar 2.0//EN
METHOD:PUBLISH
X-PUBLISHED-TTL:P3D
REFRESH-INTERVAL:P3D
CALSCALE:GREGORIAN
BEGIN:VEVENT
DTSTART:20190110T233000Z
DTEND:20190111T003000Z
X-MICROSOFT-CDO-ALLDAYEVENT:FALSE
SUMMARY:Behind the Glass: The Grand Bohemian Troupe of Fancy Glass Workers
DESCRIPTION:For positively one night only on January 10\, see The Grand Bohemian Troupe of Fancy Glass Workers at The Corning Museum of Glass. Over a span of 300 years\, traveling flameworkers entertained and educated audiences around the world on the art\, s  cience\, and skill of glassmaking. Learn about their lives and witness a modern take on their performances\, featuring flameworkers who carry on some of the same traditions today.\n\nJoin librarian Rebecca Hopman and flameworkers Bandhu Dunham\, David Sandidge\, Caitlin Hyde\, and Eric Goldschmidt for a special program and demonstration about this little-known facet of glass history. Bring the kids for a fun and fascinating evening\; the first 50 through the door will receive a glass souvenir made by our talented troupe members.
X-ALT-DESC;FMTTYPE=text/html:<p>For positively one night only on January 10\, see The Grand Bohemian Troupe of Fancy Glass Workers at The Corning Museum of Glass. Over a span of 300 years\, traveling flameworkers entertained and educated audiences around the world on the art\, s&shy\;&shy\;cience\, and skill of glassmaking. Learn about their lives and witness a modern take on their performances\, featuring flameworkers who carry on some of the same traditions today.</p>\n\n<p>Join librarian <a href="https://www.cmog.org/bio/rebecca-hopman">Rebecca Hopman</a> and flameworkers <a href="https://www.cmog.org/bio/bandhu-dunham">Bandhu Dunham</a>\, David Sandidge\, <a href="https://www.cmog.org/bio/caitlin-hyde">Caitlin Hyde</a>\, and <a href="https://www.cmog.org/bio/eric-goldschmidt">Eric Goldschmidt</a> for a special program and demonstration about this little-known facet of glass history. Bring the kids for a fun and fascinating evening\; the first 50 through the door will receive a glass souvenir made by our talented troupe members.</p>\n
LOCATION:The Corning Museum of Glass - Auditorium
UID:e.869.9868
SEQUENCE:3
DTSTAMP:20260419T122925Z
URL:https://www.corningny.com/events/details/behind-the-glass-the-grand-bohemian-troupe-of-fancy-glass-workers-9868
END:VEVENT

END:VCALENDAR
