BEGIN:VCALENDAR
VERSION:2.0
PRODID:-//ChamberMaster//Event Calendar 2.0//EN
METHOD:PUBLISH
X-PUBLISHED-TTL:P3D
REFRESH-INTERVAL:P3D
CALSCALE:GREGORIAN
BEGIN:VEVENT
DTSTART:20260606T213000Z
DTEND:20260606T233000Z
X-MICROSOFT-CDO-ALLDAYEVENT:FALSE
SUMMARY:Bike Night at The Glen
DESCRIPTION:Experience Watkins Glen International like you never have before - Bike the Glen presented by Centralus Health! Watkins Glen International will open the track to fans who are interested in biking the track for the following dates from 5:30-7:30 p.m.\n\n\n	June 6\, 2026\n	July 11\, 2026\n	August 8\, 2026\n\n\nAll ages are welcome to participate.\n\nClick here for rules and ticket information.
X-ALT-DESC;FMTTYPE=text/html:<p>Experience Watkins Glen International like you never have before - Bike the Glen presented by Centralus Health! Watkins Glen International will open the track to fans who are interested in biking the track for the following dates from 5:30-7:30 p.m.</p>\n\n<ul>\n	<li>June 6\, 2026</li>\n	<li>July 11\, 2026</li>\n	<li>August 8\, 2026</li>\n</ul>\n\n<p>All ages are welcome to participate.</p>\n\n<p>Click here for rules and&nbsp\;<a href="https://www.theglen.com/events/bike-night/" style="box-sizing: border-box\; border-width: 0px\; border-style: solid\; border-color: rgb(229\, 231\, 235)\; --tw-border-spacing-x: 0\; --tw-border-spacing-y: 0\; --tw-translate-x: 0\; --tw-translate-y: 0\; --tw-rotate: 0\; --tw-skew-x: 0\; --tw-skew-y: 0\; --tw-scale-x: 1\; --tw-scale-y: 1\; --tw-pan-x: \; --tw-pan-y: \; --tw-pinch-zoom: \; --tw-scroll-snap-strictness: proximity\; --tw-gradient-from-position: \; --tw-gradient-via-position: \; --tw-gradient-to-position: \; --tw-ordinal: \; --tw-slashed-zero: \; --tw-numeric-figure: \; --tw-numeric-spacing: \; --tw-numeric-fraction: \; --tw-ring-inset: \; --tw-ring-offset-width: 0px\; --tw-ring-offset-color: #fff\; --tw-ring-color: rgb(59 130 246 / .5)\; --tw-ring-offset-shadow: 0 0 #0000\; --tw-ring-shadow: 0 0 #0000\; --tw-shadow: 0 0 #0000\; --tw-shadow-colored: 0 0 #0000\; --tw-blur: \; --tw-brightness: \; --tw-contrast: \; --tw-grayscale: \; --tw-hue-rotate: \; --tw-invert: \; --tw-saturate: \; --tw-sepia: \; --tw-drop-shadow: \; --tw-backdrop-blur: \; --tw-backdrop-brightness: \; --tw-backdrop-contrast: \; --tw-backdrop-grayscale: \; --tw-backdrop-hue-rotate: \; --tw-backdrop-invert: \; --tw-backdrop-opacity: \; --tw-backdrop-saturate: \; --tw-backdrop-sepia: \; --tw-contain-size: \; --tw-contain-layout: \; --tw-contain-paint: \; --tw-contain-style: \; color: rgb(8\, 128\, 155)\; text-decoration-thickness: inherit\; text-decoration-style: inherit\; text-decoration-color: inherit\; margin-top: 0px\; margin-bottom: 0px\; font-weight: 700\; --tw-text-opacity: 1\; transition-property: color\, background-color\, border-color\, text-decoration-color\, fill\, stroke\; transition-timing-function: ease-out\; transition-duration: 0.3s\;">ticket</a>&nbsp\;information.</p>\n
LOCATION:Watkins Glen International 2790 County Route 16 Watkins Glen\, NY 14891
UID:e.869.19608
SEQUENCE:3
DTSTAMP:20260420T053350Z
URL:https://www.corningny.com/events/details/bike-night-at-the-glen-19608
END:VEVENT

END:VCALENDAR
