BEGIN:VCALENDAR
VERSION:2.0
PRODID:-//ChamberMaster//Event Calendar 2.0//EN
METHOD:PUBLISH
X-PUBLISHED-TTL:P3D
REFRESH-INTERVAL:P3D
CALSCALE:GREGORIAN
BEGIN:VEVENT
DTSTART:20191109T150000Z
DTEND:20191109T210000Z
X-MICROSOFT-CDO-ALLDAYEVENT:FALSE
SUMMARY:Blast into History at the Heritage Village
DESCRIPTION:The Heritage Village will host the 1st NY McCracken's Co. 1776 re-enactors on Saturday\, Nov. 9 from 10-4 and Sunday November 10 from 11-2 for Blast into History. This War of Independence re-enacting group will be setting up camp and doing field activities and drills at the Village. Homemade hearth cooked soup will be available. The blacksmith demonstrations at the Cooley Blacksmith Shop. Admission is $5.00 for adults\, FREE for members and children 17 and under.
X-ALT-DESC;FMTTYPE=text/html:The Heritage Village will host the 1st NY McCracken&#39\;s Co. 1776 re-enactors on Saturday\, Nov. 9 from 10-4 and Sunday November 10 from 11-2 for Blast into History. This War of Independence re-enacting group will be setting up camp and doing field activities and drills at the Village. Homemade hearth cooked soup will be available. The blacksmith demonstrations at the Cooley Blacksmith Shop. Admission is $5.00 for adults\, FREE for members and children 17 and under.
LOCATION:Heritage Village of The Southern Finger Lakes
UID:e.869.10781
SEQUENCE:3
DTSTAMP:20260421T094636Z
URL:https://www.corningny.com/events/details/blast-into-history-at-the-heritage-village-10781
END:VEVENT

END:VCALENDAR
