BEGIN:VCALENDAR
VERSION:2.0
PRODID:-//ChamberMaster//Event Calendar 2.0//EN
METHOD:PUBLISH
X-PUBLISHED-TTL:P3D
REFRESH-INTERVAL:P3D
CALSCALE:GREGORIAN
BEGIN:VEVENT
DTSTART:20210224T150000Z
DTEND:20210224T170000Z
X-MICROSOFT-CDO-ALLDAYEVENT:FALSE
SUMMARY:Bring the Heat | Caitlin Hyde and Helen Tegeler Live Streamed Demonstration
DESCRIPTION:In our new live demo series\, Bring the Heat\, join us for a live stream of glass artists demonstrating their expertise and skillful execution while "in the zone."\n\nDuring each demo\, an artist will present a personal design they've worked to perfect\, and they will be live on the mic to narrate as they work a rarity for live artist demonstrations and a first at the Museum.\n\nCheck back for more details about Caitlin Hyde and Helen Tegeler's design for the live stream. \n\n\n\nHow to Join and Connect Live\n\n\n\nWatch master glassmaker Helen Tegeler and Caitlin Hyde on Wednesday\, February 24 at 10:00 am EDT\, livestreamed on The Corning Museum of Glass YouTube channel.\n\nUnable to watch the live event? The Live Stream will be uploaded to YouTube. Plus\, find hundreds of hours of live streamed demonstrations on the Corning Museum of Glass YouTube channel.
X-ALT-DESC;FMTTYPE=text/html:<div style="margin-left:0px\; margin-right:0px\; text-align:left">\n<div style="margin-left:0px\; margin-right:0px">\n<p style="margin-left:0px\; margin-right:0px">In our new live demo series\,&nbsp\;<em>Bring the Heat</em>\, join us for a live stream of glass artists demonstrating their expertise and skillful execution while &ldquo\;in the zone.&rdquo\;</p>\n\n<p style="margin-left:0px\; margin-right:0px">During each demo\, an artist will present a personal design they&rsquo\;ve worked to perfect\, and they will be live on the mic to narrate as they work&mdash\;a rarity for live artist demonstrations&nbsp\;and a first at the Museum.</p>\n\n<p style="margin-left:0px\; margin-right:0px">Check back for more details about Caitlin Hyde and Helen Tegeler&#39\;s&nbsp\;design for the live stream.&nbsp\;</p>\n</div>\n</div>\n\n<h2 style="font-style:normal\; margin-left:0px\; margin-right:0px\; text-align:left">How to Join and Connect Live</h2>\n\n<div style="margin-left:0px\; margin-right:0px\; text-align:left">\n<div style="margin-left:0px\; margin-right:0px">\n<p style="margin-left:0px\; margin-right:0px">Watch master glassmaker Helen Tegeler and Caitlin Hyde&nbsp\;on Wednesday\, February 24&nbsp\;at 10:00 am EDT\, livestreamed&nbsp\;on&nbsp\;The Corning Museum of Glass&nbsp\;<a href="https://www.youtube.com/user/corningmuseumofglass" style="background-attachment: scroll\; background-clip: border-box\; background-color: transparent\; background-image: none\; background-origin: padding-box\; background-position-x: 0%\; background-position-y: 0%\; background-repeat: repeat\; background-size: auto\; box-sizing: border-box\; color: rgb(0\, 129\, 160)\; font-size: 100%\; font-weight: 600\; margin-bottom: 0px\; margin-left: 0px\; margin-right: 0px\; margin-top: 0px\; padding-bottom: 0px\; padding-left: 0px\; padding-right: 0px\; padding-top: 0px\; text-decoration: none\; transition-delay: 0s\; transition-duration: 0.4s\; transition-property: color\; transition-timing-function: ease\; vertical-align: baseline\;">YouTube channel</a>.</p>\n\n<p style="margin-left:0px\; margin-right:0px">Unable to watch the live event?&nbsp\;The Live Stream will be uploaded to&nbsp\;<a href="https://www.youtube.com/user/corningmuseumofglass" style="background-attachment: scroll\; background-clip: border-box\; background-color: transparent\; background-image: none\; background-origin: padding-box\; background-position-x: 0%\; background-position-y: 0%\; background-repeat: repeat\; background-size: auto\; box-sizing: border-box\; color: rgb(0\, 129\, 160)\; font-size: 100%\; font-weight: 600\; margin-bottom: 0px\; margin-left: 0px\; margin-right: 0px\; margin-top: 0px\; padding-bottom: 0px\; padding-left: 0px\; padding-right: 0px\; padding-top: 0px\; text-decoration: none\; transition-delay: 0s\; transition-duration: 0.4s\; transition-property: color\; transition-timing-function: ease\; vertical-align: baseline\;">YouTube</a>.&nbsp\;Plus\, find hundreds of hours of live streamed demonstrations on the&nbsp\;Corning Museum of Glass YouTube channel.</p>\n</div>\n</div>\n
LOCATION:
UID:e.869.11468
SEQUENCE:3
DTSTAMP:20260421T212227Z
URL:https://www.corningny.com/events/details/bring-the-heat-caitlin-hyde-and-helen-tegeler-live-streamed-demonstration-11468
END:VEVENT

END:VCALENDAR
