BEGIN:VCALENDAR
VERSION:2.0
PRODID:-//ChamberMaster//Event Calendar 2.0//EN
METHOD:PUBLISH
X-PUBLISHED-TTL:P3D
REFRESH-INTERVAL:P3D
CALSCALE:GREGORIAN
BEGIN:VEVENT
DTSTART:20260909T210000Z
DTEND:20260909T230000Z
X-MICROSOFT-CDO-ALLDAYEVENT:FALSE
SUMMARY:Business After Hours at Corning Meals on Wheels
DESCRIPTION:Join us for an evening of networking\, connection\, and community at Corning Meals on Wheels! This Business After Hours event is the perfect opportunity to meet local professionals\, expand your network\, and learn more about the impact of Corning Meals on Wheels.\n\nEnjoy light refreshments\, engaging conversation\, and the chance to connect with like-minded business leaders in a relaxed\, welcoming environment. Whether you're looking to strengthen professional relationships or discover ways to support your community\, this event offers something for everyone.\n\nRSVP today and be part of an evening where networking meets community impact!
X-ALT-DESC;FMTTYPE=text/html:<p data-end="563" data-start="301">Join us for an evening of networking\, connection\, and community at Corning Meals on Wheels! This Business After Hours event is the perfect opportunity to meet local professionals\, expand your network\, and learn more about the impact of Corning Meals on Wheels.</p>\n\n<p data-end="862" data-start="565">Enjoy light refreshments\, engaging conversation\, and the chance to connect with like-minded business leaders in a relaxed\, welcoming environment. Whether you&rsquo\;re looking to strengthen professional relationships or discover ways to support your community\, this event offers something for everyone.</p>\n\n<p data-end="943" data-start="864">RSVP today and be part of an evening where networking meets community impact!</p>\n
LOCATION:Corning Meals on Wheels 144 Cedar St. Corning\, NY 14830
UID:e.869.19663
SEQUENCE:3
DTSTAMP:20260420T124826Z
URL:https://www.corningny.com/events/details/business-after-hours-at-corning-meals-on-wheels-19663
END:VEVENT

END:VCALENDAR
