BEGIN:VCALENDAR
VERSION:2.0
PRODID:-//ChamberMaster//Event Calendar 2.0//EN
METHOD:PUBLISH
X-PUBLISHED-TTL:P3D
REFRESH-INTERVAL:P3D
CALSCALE:GREGORIAN
BEGIN:VEVENT
DTSTART:20260513T210000Z
DTEND:20260513T230000Z
X-MICROSOFT-CDO-ALLDAYEVENT:FALSE
SUMMARY:Business After Hours at Howard Hanna
DESCRIPTION:Celebrate networking and new beginnings on May 13 at Howard Hanna's brand-new Market Street location! Join local professionals for an evening of conversation\, connection\, and exploration of their fresh\, modern space.\n\nGuests will enjoy light refreshments while meeting the Howard Hanna team and learning about the services and opportunities they provide in the community. Whether you're looking to expand your network\, reconnect with familiar faces\, or simply enjoy an evening out in a welcoming setting\, this Business After Hours promises to be both productive and enjoyable.
X-ALT-DESC;FMTTYPE=text/html:<p data-end="475" data-start="257">Celebrate networking and new beginnings on May 13 at Howard Hanna&rsquo\;s brand-new Market Street location! Join local professionals for an evening of conversation\, connection\, and exploration of their fresh\, modern space.</p>\n\n<p data-end="837" data-start="477">Guests will enjoy light refreshments while meeting the Howard Hanna team and learning about the services and opportunities they provide in the community. Whether you&rsquo\;re looking to expand your network\, reconnect with familiar faces\, or simply enjoy an evening out in a welcoming setting\, this Business After Hours promises to be both productive and enjoyable.</p>\n
LOCATION:Howard Hanna 46 E. Market St. Corning\, NY 14830
UID:e.869.19646
SEQUENCE:3
DTSTAMP:20260419T153829Z
URL:https://www.corningny.com/events/details/business-after-hours-at-howard-hanna-19646
END:VEVENT

END:VCALENDAR
