BEGIN:VCALENDAR
VERSION:2.0
PRODID:-//ChamberMaster//Event Calendar 2.0//EN
METHOD:PUBLISH
X-PUBLISHED-TTL:P3D
REFRESH-INTERVAL:P3D
CALSCALE:GREGORIAN
BEGIN:VEVENT
DTSTART:20190123T220000Z
DTEND:20190124T000000Z
X-MICROSOFT-CDO-ALLDAYEVENT:FALSE
SUMMARY:Business After Hours - Centerway ExecuCenter
DESCRIPTION:Join us for networking\, along with hors d'oeuvres provided by Tossed and beverages from Deep Root Vineyard and Liquid Shoes Brewing.\n\n\n\nThis event is co-sponsored by First Light Fiber and Centerway ExecuCenter.
X-ALT-DESC;FMTTYPE=text/html:<br />\n<span style="font-size:16px\;">Join us for networking\, along with hors d&#39\;oeuvres provided by Tossed and beverages from Deep Root Vineyard and Liquid Shoes Brewing.</span><br />\n<br />\n<span style="font-size:20px\;">This event is co-sponsored by <u><a href="https://www.firstlight.net/">First Light Fiber</a></u> and <u><a href="http://centerwayec.com/">Centerway ExecuCenter</a></u>.</span>
LOCATION:Centerway ExecuCenter 5 E Market St\, 2nd Floor
UID:e.869.9885
SEQUENCE:3
DTSTAMP:20260419T121734Z
URL:https://www.corningny.com/events/details/business-after-hours-centerway-execucenter-9885
END:VEVENT

END:VCALENDAR
