BEGIN:VCALENDAR
VERSION:2.0
PRODID:-//ChamberMaster//Event Calendar 2.0//EN
METHOD:PUBLISH
X-PUBLISHED-TTL:P3D
REFRESH-INTERVAL:P3D
CALSCALE:GREGORIAN
BEGIN:VEVENT
DTSTART:20230921T210000Z
DTEND:20230921T230000Z
X-MICROSOFT-CDO-ALLDAYEVENT:FALSE
SUMMARY:Business After Hours - Socha Financial Group
DESCRIPTION:Join us for food\, drinks and networking\, hosted by Socha Financial Group!\n\n\n\nThis indoor/outdoor event will include:\n\n-Live music: acoustic blues-funk with Richard & Tommy Rossettie\n\n-Passed and stationary hors d'oeuvres\n\n-Complimentary wine & beer with a signature cocktail available to purchase\n\n*Proceeds from the signature cocktails sold at the event will be donated to the Food Bank of the Southern Tier\, and purchasing patrons will also have a chance to win a raffle prize of a financial plan!
X-ALT-DESC;FMTTYPE=text/html:<br />\n<br />\n<span style="font-size:18px\;">Join us for food\, drinks and networking\, hosted by Socha Financial Group!<br />\n<br />\nThis indoor/outdoor event will include:<br />\n-Live music: acoustic blues-funk with Richard &amp\; Tommy Rossettie<br />\n-Passed and stationary hors d&#39\;oeuvres<br />\n-Complimentary wine &amp\; beer with a signature cocktail available to purchase<br />\n<span style="color:#800000\;">*Proceeds from the signature cocktails sold at the event will be donated to the Food Bank of the&nbsp\;Southern Tier\, and purchasing patrons will also have a chance to win a raffle prize of a financial plan!</span></span><br />\n&nbsp\;
LOCATION:Socha Financial Group 181 E Second Street\, Corning
UID:e.869.17328
SEQUENCE:3
DTSTAMP:20260421T095059Z
URL:https://www.corningny.com/events/details/business-after-hours-socha-financial-group-17328
END:VEVENT

END:VCALENDAR
