BEGIN:VCALENDAR
VERSION:2.0
PRODID:-//ChamberMaster//Event Calendar 2.0//EN
METHOD:PUBLISH
X-PUBLISHED-TTL:P3D
REFRESH-INTERVAL:P3D
CALSCALE:GREGORIAN
BEGIN:VEVENT
DTSTART:20191107T230000Z
DTEND:20191108T010000Z
X-MICROSOFT-CDO-ALLDAYEVENT:FALSE
SUMMARY:Business of Art: Artist Safety Awareness
DESCRIPTION:Business of Art: Artist Safety Awareness\n\nPresented By Cheryl Podsiki\n\nThursday\, November 7\, 6-8pm at The ARTS Council\n\n\n\nA collaboration between the Southern Fingers Lakes Arts Preparedness Network and the Business of Art series\, this presentation will focus on certain hazards often encountered by those working in the world of arts and crafts ranging from the creators themselves to those who make and supply the base materials essential to bringing about fruition to the project. From artist pigments to stage props\, hazardous materials and potentially dangerous situations can turn a fun and productive endeavor into a harmful and possibly deadly outcome. Hazards may silently be lurking on colorful paint pallets or in solvent jars\, in prop lockers filled with beloved old felt hats and silvered mirrors\, sought-after antiques readily available to be recycled and transformed into new art forms\, as well as in contemporary materials such as inks\, resins and spray foams.\n\nBeing aware of such hazards can be paramount to your own personal health and safety and to those sharing the same work space with you. General safe handling guidelines will be discussed as appropriate and an extensive Resource List will be provided. Cheryl encourages an open discussion format throughout her presentations.\n\n\n\nRegister Here:\n\nhttps://events.r20.constantcontact.com/register/eventReg?oeidk=a07egnay4j1f0570577&oseq=&c=&ch=
X-ALT-DESC;FMTTYPE=text/html:<p style="text-align: center\;"><strong>Business of Art: Artist Safety Awareness</strong><br />\n<em>Presented By Cheryl Podsiki</em><br />\nThursday\, November 7\, 6-8pm at <a href="http://eARTS.org">The ARTS Council</a></p>\n\n<p><br />\nA collaboration between the <strong>Southern Fingers Lakes Arts Preparedness Network </strong>and the <strong>Business of Art</strong> series\, this presentation will focus on certain hazards often encountered by those working in the world of arts and crafts ranging from the creators themselves to those who make and supply the base materials essential to bringing about fruition to the project. From artist pigments to stage props\, hazardous materials and potentially dangerous situations can turn a fun and productive endeavor into a harmful and possibly deadly outcome. Hazards may silently be lurking on colorful paint pallets or in solvent jars\, in prop lockers filled with beloved old felt hats and silvered mirrors\, sought-after antiques readily available to be recycled and transformed into new art forms\, as well as in contemporary materials such as inks\, resins and spray foams.</p>\n\n<p>Being aware of such hazards can be paramount to your own personal health and safety and to those sharing the same work space with you. General safe handling guidelines will be discussed as appropriate and an extensive Resource List will be provided. Cheryl encourages an open discussion format throughout her presentations.<br />\n<br />\n<strong>Register Here</strong>:<br />\n<a href="https://events.r20.constantcontact.com/register/eventReg?oeidk=a07egnay4j1f0570577&amp\;oseq=&amp\;c=&amp\;ch=">https://events.r20.constantcontact.com/register/eventReg?oeidk=a07egnay4j1f0570577&amp\;oseq=&amp\;c=&amp\;ch=</a></p>\n
LOCATION:The ARTS Council of the Southern Finger Lakes 79 W Market St Corning\, NY 14830
UID:e.869.10770
SEQUENCE:3
DTSTAMP:20260421T100339Z
URL:https://www.corningny.com/events/details/business-of-art-artist-safety-awareness-10770
END:VEVENT

END:VCALENDAR
