BEGIN:VCALENDAR
VERSION:2.0
PRODID:-//ChamberMaster//Event Calendar 2.0//EN
METHOD:PUBLISH
X-PUBLISHED-TTL:P3D
REFRESH-INTERVAL:P3D
CALSCALE:GREGORIAN
BEGIN:VEVENT
DTSTART:20210223T230000Z
DTEND:20210224T010000Z
X-MICROSOFT-CDO-ALLDAYEVENT:FALSE
SUMMARY:Business of Art: Intro to Image Editing
DESCRIPTION:Business of Art: Intro to Photo Editing and Graphic Layout\n\nTuesday\, February 23\, 2021\, 6   8 PM EST\n\nOnline Event\n\n\n\nLearn the basics needed to edit photos and create stunning graphics to market your art business. This workshop is for beginners who are interested in the basics of photo editing and graphic layout - using free editing tools similar to Adobe Photoshop and InDesign\, Pixlr E and Canva. Learn how to:\n\n\n	import and export images\n	make basic image adjustments ex: cropping\, exposure\, contrast\, and brightness\n	utilize editing tools such as the clone and the blur tool\n	create a new graphic canvas\n	use margins\, rulers\, and guides\n	alter the background color\, add text\, manipulate images\n\n\nAttendees should be proficient in fundamental computer skills and\, prior to the workshop:\n\n\n	create accounts at Pixlr E and Canva\n	download provided demo materials\n	gather images within one folder on your computer\n\n\nRegistration is required and is $10 for ARTS Council Members and $25 for nonmembers.\n\nRegister here: http://bit.ly/BOAImageEditing.\n\n\n\nYou will receive a Zoom link 24 hours before the workshop begins.\n\n\n\nQuestions? Email Casey at casey@earts.org
X-ALT-DESC;FMTTYPE=text/html:<div>\n<h2><strong>Business of Art: Intro to Photo Editing and Graphic Layout<br />\nTuesday\, February 23\, 2021\, 6 &ndash\; 8 PM EST</strong><br />\nOnline Event</h2>\n</div>\n\n<div>\n<div>Learn the basics needed to edit photos and create stunning graphics to market your art business.&nbsp\;This workshop is for beginners who are interested in the basics of photo editing and graphic layout - using free editing tools similar to Adobe Photoshop and InDesign\,&nbsp\;<a href="http://pixlr.com/e/">Pixlr E</a>&nbsp\;and&nbsp\;<a href="https://www.canva.com/">Canva</a>. Learn how to:</div>\n\n<ul>\n	<li>import and export images</li>\n	<li>make basic image adjustments ex: cropping\, exposure\, contrast\, and brightness</li>\n	<li>utilize editing tools such as the clone and the blur tool</li>\n	<li>create a new graphic canvas</li>\n	<li>use margins\, rulers\, and guides</li>\n	<li>alter the background color\, add text\, manipulate images</li>\n</ul>\n\n<div>Attendees should be proficient in fundamental computer skills and\, prior to the workshop:</div>\n\n<ul>\n	<li>create accounts at <a href="https://pixlr.com/e/">Pixlr E</a> and <a href="https://www.canva.com/">Canva</a></li>\n	<li>download provided demo materials</li>\n	<li>gather images within one folder on your computer</li>\n</ul>\n\n<div style="text-align: center\;"><strong>Registration is required and is $10 for ARTS Council Members and $25 for nonmembers.</strong></div>\n\n<div style="text-align: center\;">Register here: <a href="http://bit.ly/BOAImageEditing">http://bit.ly/BOAImageEditing</a>.</div>\n\n<div><br />\n<em>You will receive a Zoom link 24 hours before the workshop begins.</em></div>\n\n<div><br />\n<strong>Questions?</strong> Email Casey at <a href="mailto:casey@earts.org">casey@earts.org</a></div>\n</div>\n
LOCATION:Online\, via Zoom. Link provided after registration.
UID:e.869.11546
SEQUENCE:3
DTSTAMP:20260421T211735Z
URL:https://www.corningny.com/events/details/business-of-art-intro-to-image-editing-11546
END:VEVENT

END:VCALENDAR
