BEGIN:VCALENDAR
VERSION:2.0
PRODID:-//ChamberMaster//Event Calendar 2.0//EN
METHOD:PUBLISH
X-PUBLISHED-TTL:P3D
REFRESH-INTERVAL:P3D
CALSCALE:GREGORIAN
BEGIN:VEVENT
DTSTART:20230826T120000Z
DTEND:20230826T190000Z
X-MICROSOFT-CDO-ALLDAYEVENT:FALSE
SUMMARY:CASA-Trinity's 5th Annual Color Run/Walk 4 Recovery 5k!
DESCRIPTION:Hello friend! Come join us for our 5th Annual Color Run/Walk 4 Recovery 5k! This annual family friendly event aims to work towards removing the stigma associated with addiction\, to increase awareness and understanding within the community of substance use and mental health disorders\; while promoting the message that prevention works\, treatment is available\, and people can and do recover.\n\n\n\nThere will be face painting and a jump house for kids to enjoy! Music\, a Memorial Wall and food after the race\, and so much more! Create a team or fly solo for a great cause! Wear white! Get creative! Have fun!\n\n\n\nFee: Adults are $35.00\, and Youth (16 and under) are $15.00. This is a timed event for our more avid runners. It is also intended to be a fun\, community\, kid friendly event!\n\n\n\nDay of registration starts at 8am and the race will kick off at 10am.\n\nTo register ahead of time\, please visit: https://runsignup.com/Race/Register?raceId=78450.\n\nTo become a sponsor\, please visit:  CASA-Trinity's 5th Annual Color Run/Walk 4 Recovery 5k Online Donations (runsignup.com)\n\n\n\nIf you have any questions\, please email Amy at agessi@casa-trinity.org. \n\n\n\nWe look forward to seeing you there!
X-ALT-DESC;FMTTYPE=text/html:Hello friend! Come join us for our 5th Annual Color Run/Walk 4 Recovery 5k! This annual family friendly event aims to work towards removing the stigma associated with addiction\, to increase awareness and understanding within the community of substance use and mental health disorders\; while promoting&nbsp\;the message that prevention works\, treatment is available\, and people can and do recover.<br />\n<br />\nThere will be face painting and a jump house for kids to enjoy! Music\, a Memorial Wall and food after the race\, and so&nbsp\;much more! Create a team or fly solo for a great cause! Wear white! Get creative! Have fun!<br />\n<br />\nFee: Adults are $35.00\, and Youth (16 and under) are $15.00.&nbsp\;This is a timed event for our more avid runners. It is also intended to be a fun\, community\, kid friendly event!<br />\n<br />\nDay of registration starts at 8am and the race will kick off at 10am.<br />\nTo register ahead of time\, please visit:&nbsp\;<a href="https://runsignup.com/Race/Register?raceId=78450&amp\;fbclid=IwAR3dMBgw6wDUCQESy3kIvhjoFhfBSbe-7xtzZG93VYY1YYx9ASfkZ9WkLqs" rel="nofollow" tabindex="0" target="_blank">https://runsignup.com/Race/Register?raceId=78450</a>.<br />\nTo become a sponsor\, please visit:&nbsp\;&nbsp\;<a href="https://runsignup.com/Race/Donate/NY/Dansville/CASATrinitysRun4RecoveryColorRunWalk5k?fbclid=IwAR3_WpMXuXPBF3vewwzh8ozqataAjJmmsO7AGoDvkuVhGqSrwtGaCgCu-pM">CASA-Trinity&#39\;s 5th Annual Color Run/Walk 4 Recovery 5k Online Donations (runsignup.com)</a><br />\n<br />\nIf you have any questions\, please email Amy at agessi@casa-trinity.org.&nbsp\;<br />\n<br />\nWe look forward to seeing you there!<br />\n&nbsp\;
LOCATION:This event will be hosted at CASA-Trinity\, 45 Maple Street\, Dansville\, NY 14437.
UID:e.869.17300
SEQUENCE:3
DTSTAMP:20260421T231602Z
URL:https://www.corningny.com/events/details/casa-trinity-s-5th-annual-color-run-walk-4-recovery-5k-17300
END:VEVENT

END:VCALENDAR
