BEGIN:VCALENDAR
VERSION:2.0
PRODID:-//ChamberMaster//Event Calendar 2.0//EN
METHOD:PUBLISH
X-PUBLISHED-TTL:P3D
REFRESH-INTERVAL:P3D
CALSCALE:GREGORIAN
BEGIN:VEVENT
DTSTART:20211001T140000Z
DTEND:20211001T160000Z
X-MICROSOFT-CDO-ALLDAYEVENT:FALSE
SUMMARY:Catherine Labonté | Guest Artist Demonstration
DESCRIPTION:Watch live as Guest Artist Catherine Labont  debuts a new\, never-before-seen glass animal during her livestreamed demo in the Amphitheater Hot Shop on Friday\, October 1 from 10:00 am to 12:00 pm.\n\nKnown for her curiously cute and thoroughly whimsical glass animal creations\, Labont  will be hosting Adopt-a-Glass-Pet Day in the Museum Shops after her livestreamed demo from 1:00 pm to 4:00 pm.\n\nCurrently living and creating in Montr al\, Canada\, Labont  says she hopes that the objects and characters she creates bring humor and surprise to those who see them. This special demo is included in the cost of admission (kids and teens 17 and under are free).\n\n\n\nHow to Join and Connect Live\n\n\n\nCan't visit the Museum? Watch the live stream Friday\, October 1 at 10:00 am EDT\, livestreamed on The Corning Museum of Glass YouTube channel!\n\nEach demonstration will be added to our YouTube channel. See the full listing of past live-streamed demonstrations\, and check back for new videos soon.
X-ALT-DESC;FMTTYPE=text/html:<div style="background:transparent\; border:0px\; padding:0px">\n<div style="background:transparent\; border:0px\; padding:0px">\n<p>Watch live as Guest Artist Catherine Labont&eacute\; debuts a&nbsp\;<span style="font-size:18px">new\, never-before-seen</span>&nbsp\;glass animal during her livestreamed demo in the Amphitheater Hot Shop on Friday\, October 1 from 10:00 am to 12:00 pm.</p>\n\n<p>Known for her curiously cute and thoroughly whimsical glass animal creations\, Labont&eacute\; will be hosting&nbsp\;<a href="https://shops.cmog.org/events" style="box-sizing: border-box\; margin: 0px\; padding: 0px\; font-size: 18px\; vertical-align: baseline\; background: transparent\; text-decoration-line: none\; font-weight: 600\; color: rgb(0\, 129\, 133)\; transition: color 0.4s ease 0s\;">Adopt-a-Glass-Pet Day</a>&nbsp\;in the Museum Shops after her livestreamed demo from 1:00 pm to 4:00 pm.</p>\n\n<p>Currently living and creating in Montr&eacute\;al\, Canada\, Labont&eacute\; says she hopes that the objects and characters she creates bring humor and surprise to those who see them. This special demo is included in the cost of admission (kids and teens 17 and under are free).</p>\n</div>\n</div>\n\n<h2>How to Join and Connect Live</h2>\n\n<div style="background:transparent\; border:0px\; padding:0px">\n<div style="background:transparent\; border:0px\; padding:0px">\n<p>Can&#39\;t visit the Museum? Watch the live stream Friday\, October 1 at 10:00 am EDT\, livestreamed&nbsp\;on&nbsp\;The Corning Museum of Glass&nbsp\;<a href="https://www.youtube.com/user/corningmuseumofglass" style="box-sizing: border-box\; margin: 0px\; padding: 0px\; font-size: 18px\; vertical-align: baseline\; background: transparent\; text-decoration-line: none\; font-weight: 600\; color: rgb(0\, 129\, 133)\; transition: color 0.4s ease 0s\;">YouTube channel</a>!</p>\n\n<p>Each demonstration will be added to our&nbsp\;<a href="https://www.youtube.com/user/corningmuseumofglass" style="box-sizing: border-box\; margin: 0px\; padding: 0px\; font-size: 18px\; vertical-align: baseline\; background: transparent\; text-decoration-line: none\; font-weight: 600\; color: rgb(0\, 129\, 133)\; transition: color 0.4s ease 0s\;">YouTube channel</a>. See the full listing of past live-streamed demonstrations\, and check back for new videos soon.</p>\n</div>\n</div>\n
LOCATION:The Corning Museum of Glass
UID:e.869.11942
SEQUENCE:3
DTSTAMP:20260423T103724Z
URL:https://www.corningny.com/events/details/catherine-labont&#233;-guest-artist-demonstration-11942
END:VEVENT

END:VCALENDAR
