BEGIN:VCALENDAR
VERSION:2.0
PRODID:-//ChamberMaster//Event Calendar 2.0//EN
METHOD:PUBLISH
X-PUBLISHED-TTL:P3D
REFRESH-INTERVAL:P3D
CALSCALE:GREGORIAN
BEGIN:VEVENT
DTSTART:20230607T213000Z
DTEND:20230607T233000Z
X-MICROSOFT-CDO-ALLDAYEVENT:FALSE
SUMMARY:CAYP Mentor Mixer
DESCRIPTION:The Corning Area Young Professionals host the Mentor Mizer every year.  YPs should not miss this evening of networking and the opportunity to talk with local leaders!\n\n\n\nJoin us for making connections\, asking questions and meeting others in the community!  Light refreshments will be provided along with a cash bar.\n\n\n\nMeet all the 2023 Mentors here!\n\n\n\nFree for CAYP members\; $10 per person for nonmembers\n\n\n\nAdvance registration is required.  Please register online here
X-ALT-DESC;FMTTYPE=text/html:<br />\n<span style="font-size:16px\;">The Corning Area Young Professionals host the Mentor Mizer every year.&nbsp\; YPs should not miss this evening of networking and the opportunity to talk with local leaders!<br />\n<br />\nJoin us for making connections\, asking questions and meeting others in the community!&nbsp\; Light refreshments will be provided along with a cash bar.<br />\n<br />\n<u><a href="https://chambermaster.blob.core.windows.net/userfiles/UserFiles/chambers/869/File/MentorMixerbios2023.pdf">Meet all the 2023 Mentors here!</a></u><br />\n<br />\nFree for CAYP members\; $10 per person for nonmembers<br />\n<br />\nAdvance registration is required.&nbsp\; Please <a href="https://forms.office.com/r/BdBD5y6EXW">register online here</a></span><br />\n&nbsp\;
LOCATION:The Rockwell Museum 111 Cedar Street\, Corning
UID:e.869.14088
SEQUENCE:3
DTSTAMP:20260420T144017Z
URL:https://www.corningny.com/events/details/cayp-mentor-mixer-14088
END:VEVENT

END:VCALENDAR
