BEGIN:VCALENDAR
VERSION:2.0
PRODID:-//ChamberMaster//Event Calendar 2.0//EN
METHOD:PUBLISH
X-PUBLISHED-TTL:P3D
REFRESH-INTERVAL:P3D
CALSCALE:GREGORIAN
BEGIN:VEVENT
DTSTART;VALUE=DATE:20230601
DTEND;VALUE=DATE:20230701
TRANSP:TRANSPARENT
X-MICROSOFT-CDO-ALLDAYEVENT:TRUE
SUMMARY:Celebrate Pride Month at the Museum
DESCRIPTION:All month long\, the Pride flag will fly over the Museum as a physical reminder that all people are welcome\, safe\, and valued at the Museum. Celebrate Pride with fun activities at the Museum and in our local community.
X-ALT-DESC;FMTTYPE=text/html:<span style="background-color:rgb(255\, 255\, 255)\; font-family:mundial\,avenir\,century gothic\,centurygothic\,applegothic\,sans-serif\; font-size:19px">All month long\, the Pride flag will fly over the Museum as a physical reminder that all people are welcome\, safe\, and valued at the Museum. Celebrate Pride with fun activities at the Museum and in our local community.</span>
LOCATION:
UID:e.869.17318
SEQUENCE:3
DTSTAMP:20260420T133509Z
URL:https://www.corningny.com/events/details/celebrate-pride-month-at-the-museum-06-01-2023-17318
END:VEVENT

END:VCALENDAR
