BEGIN:VCALENDAR
VERSION:2.0
PRODID:-//ChamberMaster//Event Calendar 2.0//EN
METHOD:PUBLISH
X-PUBLISHED-TTL:P3D
REFRESH-INTERVAL:P3D
CALSCALE:GREGORIAN
BEGIN:VEVENT
DTSTART:20210918T130000Z
DTEND:20210918T130000Z
X-MICROSOFT-CDO-ALLDAYEVENT:FALSE
SUMMARY:Chemung River Kayak Rental Trips with Endless Mountains Outfitters
DESCRIPTION:Meet at the Grove Street Boat Launch\, 36 Grove Street\, Elmira\, NY 14905
X-ALT-DESC;FMTTYPE=text/html:Meet at the Grove Street Boat Launch\, 36 Grove Street\, Elmira\, NY 14905
LOCATION:Grove Street Boat Launch\, 36 Grove Street\, Elmira\, NY 14905
UID:e.869.11891
SEQUENCE:3
DTSTAMP:20260423T091356Z
URL:https://www.corningny.com/events/details/chemung-river-kayak-rental-trips-with-endless-mountains-outfitters-11891
END:VEVENT

END:VCALENDAR
