BEGIN:VCALENDAR
VERSION:2.0
PRODID:-//ChamberMaster//Event Calendar 2.0//EN
METHOD:PUBLISH
X-PUBLISHED-TTL:P3D
REFRESH-INTERVAL:P3D
CALSCALE:GREGORIAN
BEGIN:VEVENT
DTSTART;VALUE=DATE:20230218
DTEND;VALUE=DATE:20230219
TRANSP:TRANSPARENT
X-MICROSOFT-CDO-ALLDAYEVENT:TRUE
SUMMARY:CHILL
DESCRIPTION:Allow us to tantalize your tastebuds with creative CHILL-themed food (and sometimes local wine & craft beer) pairings. Visit participating restaurants & pubs to try their featured pairings\, from salty and sweet to combos that might have you scratching your head.\n\n\n\nBring the family to Bridge Street on Saturday from 2 6 pm and join us for snowboard demonstrations (weather permitting)\, an ice carving competition\, and unique ice selfie opportunities throughout the District.\n\nCheck out our website for more info:https://www.gafferdistrict.com/event/chill/1574
X-ALT-DESC;FMTTYPE=text/html:Allow us to tantalize your tastebuds with creative CHILL-themed food (and sometimes local wine &amp\; craft beer) pairings. Visit participating restaurants &amp\; pubs to try their featured pairings\, from salty and sweet to combos that might have you scratching your head.<br />\n<br />\nBring the family to Bridge Street on Saturday from 2&ndash\;6 pm and join us for snowboard demonstrations (weather permitting)\, an ice carving competition\, and unique ice selfie opportunities throughout the District.<br />\nCheck out our website for more info:<a href="https://www.gafferdistrict.com/event/chill/1574/?fbclid=IwAR08RKLs_QSHeqgwdgJhhmtZ-8W_Uf4o88OKwouClBVWDGx2vQ-l0OAxx0A" target="_blank">https://www.gafferdistrict.com/event/chill/1574</a>
LOCATION:Throughout Corning's Gaffer District
UID:e.869.14047
SEQUENCE:3
DTSTAMP:20260421T211608Z
URL:https://www.corningny.com/events/details/chill-02-18-2023-14047
END:VEVENT

END:VCALENDAR
