BEGIN:VCALENDAR
VERSION:2.0
PRODID:-//ChamberMaster//Event Calendar 2.0//EN
METHOD:PUBLISH
X-PUBLISHED-TTL:P3D
REFRESH-INTERVAL:P3D
CALSCALE:GREGORIAN
BEGIN:VEVENT
DTSTART:20201224T220000Z
DTEND:20201225T010000Z
X-MICROSOFT-CDO-ALLDAYEVENT:FALSE
SUMMARY:Christmas Eve/Day Dinner:
DESCRIPTION:2020 has been a year wrought with stress\, so the culinary team at Radisson Hotel Corning is giving the community an opportunity to skip the stressful holiday cooking job and relax with family.  Grill 1-2-5 is now taking reservations for socially distant Christmas Eve and Christmas Day dinners. Seating times are from 5pm to 8pm on Christmas Eve and 1pm to 5pm on Christmas Day.  The chef-driven\, ala carte holiday menu includes handcrafted specialties such as cedar plank salmon\, seared scallops\, filet mignon\, prime rib\, broiled crab cake stuffed jumbo shrimp\, maple brined pork tenderloin\, handmade desserts and more.  The hotel is elegantly decorated for the season with both modern and traditional aesthetics and adorned pine trees abound. Reservations are required and can be made by calling 607-962-5000 extension 127.
X-ALT-DESC;FMTTYPE=text/html:2020 has been a year wrought with stress\, so the culinary team at Radisson Hotel Corning is giving the community an opportunity to skip the stressful holiday cooking job and relax with family.&nbsp\; Grill 1-2-5 is now taking reservations for socially distant Christmas Eve and Christmas Day dinners. Seating times are from 5pm to 8pm on Christmas Eve and 1pm to 5pm on Christmas Day.&nbsp\; The chef-driven\, ala carte holiday menu includes handcrafted specialties such as cedar plank salmon\, seared scallops\, filet mignon\, prime rib\, broiled crab cake stuffed jumbo shrimp\, maple brined pork tenderloin\, handmade desserts and more.&nbsp\; The hotel is elegantly decorated for the season with both modern and traditional aesthetics and adorned pine trees abound. Reservations are required and can be made by calling 607-962-5000 extension 127.&nbsp\;&nbsp\;
LOCATION:Radisson Hotel Corning 125 Denison Pkwy E\, Corning\, NY 14830
UID:e.869.11353
SEQUENCE:3
DTSTAMP:20260421T062203Z
URL:https://www.corningny.com/events/details/christmas-eve-day-dinner-11353
END:VEVENT

END:VCALENDAR
