BEGIN:VCALENDAR
VERSION:2.0
PRODID:-//ChamberMaster//Event Calendar 2.0//EN
METHOD:PUBLISH
X-PUBLISHED-TTL:P3D
REFRESH-INTERVAL:P3D
CALSCALE:GREGORIAN
BEGIN:VEVENT
DTSTART:20200118T140000Z
DTEND:20200118T213000Z
X-MICROSOFT-CDO-ALLDAYEVENT:FALSE
SUMMARY:Church Security Seminar
DESCRIPTION:Training will provide and overview on how the church can be secure.  Learn how to recognize suspicious behavior\, learn how to approach armed individuals\, lockdown procedures\, awareness\, and training your team.
X-ALT-DESC;FMTTYPE=text/html:Training will provide and overview on how the church can be secure.&nbsp\; Learn how to recognize suspicious behavior\, learn how to approach armed individuals\, lockdown procedures\, awareness\, and training your team.&nbsp\;&nbsp\;
LOCATION:Family Life\, 7634 County Road 14\, Bath\, NY 14810
UID:e.869.11024
SEQUENCE:3
DTSTAMP:20260423T061700Z
URL:https://www.corningny.com/events/details/church-security-seminar-11024
END:VEVENT

END:VCALENDAR
