BEGIN:VCALENDAR
VERSION:2.0
PRODID:-//ChamberMaster//Event Calendar 2.0//EN
METHOD:PUBLISH
X-PUBLISHED-TTL:P3D
REFRESH-INTERVAL:P3D
CALSCALE:GREGORIAN
BEGIN:VEVENT
DTSTART:20260202T213000Z
DTEND:20260203T003000Z
X-MICROSOFT-CDO-ALLDAYEVENT:FALSE
SUMMARY:Corning Rotary Groundhog Day - Breakfast for Dinner: 2-2-26 at CPPHS Café Supports Corning Rotary Local Youth Programs
DESCRIPTION:Corning\, NY   February 2\, 2026   The Corning Rotary Club will hold its Ninth Annual Groundhog Day Breakfast for Dinner on Monday\, February 2\, 2026\, from 4:30 PM to 7:00 PM at the Corning-Painted Post High School Caf .\n\nProceeds will support Corning Rotary's Local Youth Projects. Each meal helps build a stronger\, more vibrant community.\n\nGuests can choose between two meal options:\n\n\n	\n	Tall Stack ($10): 4 pancakes or French toast sticks\, tater tots\, turkey sausage\, and beverages. You can choose either pancakes or French toast sticks   or a combo that has both!\n	\n	\n	Short Stack ($7): 2 pancakes\, potato tots\, turkey sausage\, and beverages. Same items choices as larger size.\n	\n\n\n?? Additionally\, you can become an Event Supporter for a $100 donation. We'll be publicly recognizing Supporters at the event and social media. This is a great choice\, if you can't attend the event or - will be there and want to provide extra help..\n\n?? There is also an option to purchase tickets and donate them to local groups such as: Salvation Army\, Catholic Charities\, Corning Youth Center and several local schools. Supporters play a vital role in supporting Corning Rotary's mission and will receive the club's heartfelt gratitude.\n\nDine-in or takeaway options are available\, and live music will feature Punxsutawney Phil and the Repeats.
X-ALT-DESC;FMTTYPE=text/html:<p style="text-align:start"><strong>Corning\, NY &ndash\; February 2\, 2026</strong>&nbsp\;&ndash\; The Corning Rotary Club will hold its Ninth Annual Groundhog Day Breakfast for Dinner on Monday\, February 2\, 2026\, from 4:30 PM to 7:00 PM at the Corning-Painted Post High School Caf&eacute\;.</p>\n\n<p style="text-align:start"><strong>Proceeds will support Corning Rotary&rsquo\;s Local Youth Projects.&nbsp\;</strong>Each meal helps build a stronger\, more vibrant community.</p>\n\n<p style="text-align:start"><strong>Guests can choose between two meal options</strong>:</p>\n\n<ul>\n	<li>\n	<p><strong>Tall Stack</strong>&nbsp\;($10): 4 pancakes or French toast sticks\, tater tots\, turkey sausage\, and beverages. You can choose either pancakes or French toast sticks &hellip\; or a combo that has both!</p>\n	</li>\n	<li>\n	<p><strong>Short Stack</strong>&nbsp\;($7): 2 pancakes\, potato tots\, turkey sausage\, and beverages. Same items choices as larger size.</p>\n	</li>\n</ul>\n\n<p style="text-align:start">?? Additionally\, you can become an&nbsp\;<strong>Event Supporter</strong>&nbsp\;for a $100 donation. We&rsquo\;ll be publicly recognizing Supporters at the event and social media. This is a great choice\, if you can&rsquo\;t attend the event or - will be there and want to provide extra help..</p>\n\n<p style="text-align:start">?? There is also an option to&nbsp\;<strong>purchase tickets and donate them to local groups</strong>&nbsp\;such as: Salvation Army\, Catholic Charities\, Corning Youth Center and several local schools. Supporters play a vital role in supporting Corning Rotary&rsquo\;s mission and will receive the club&rsquo\;s heartfelt gratitude.</p>\n\n<p style="text-align:start">Dine-in or takeaway options are available\, and live music will feature&nbsp\;<strong>Punxsutawney Phil and the Repeats</strong>.</p>\n
LOCATION:Corning-Painted Post High School Caf \; 201 Cantigney Street\, Corning\, NY. Plenty of free\, well-lit parking available.
UID:e.869.19659
SEQUENCE:3
DTSTAMP:20260420T214430Z
URL:https://www.corningny.com/events/details/corning-rotary-groundhog-day-breakfast-for-dinner-2-2-26-at-cpphs-caf&#233;-supports-corning-rotary-local-youth-programs-19659
END:VEVENT

END:VCALENDAR
