BEGIN:VCALENDAR
VERSION:2.0
PRODID:-//ChamberMaster//Event Calendar 2.0//EN
METHOD:PUBLISH
X-PUBLISHED-TTL:P3D
REFRESH-INTERVAL:P3D
CALSCALE:GREGORIAN
BEGIN:VEVENT
DTSTART:20210903T130000Z
DTEND:20210903T210000Z
X-MICROSOFT-CDO-ALLDAYEVENT:FALSE
SUMMARY:COVID-19 Response Show
DESCRIPTION:The ARTS Council of the Southern Finger Lakes is pleased to present The COVID-19 Response Show\, on view from July 6 - September 3 in The Evelyn Peeler Peacock Gallery at The ARTS Council. Gallery hours are Monday-Friday\, 9AM - 5PM.\n\n\n\nThis juried exhibition features the visual and written submissions of regional artists responding to the COVID-19 pandemic and is part of a larger COVID-19 Response Project being undertaken by The ARTS Council.\n\n\n\nA reception will be held Friday\, July 23\, 4 - 6PM.
X-ALT-DESC;FMTTYPE=text/html:<strong><a href="http://eARTS.org">The ARTS Council of the Southern Finger Lakes</a></strong>&nbsp\;is pleased to present&nbsp\;<a href="https://www.earts.org/in-the-gallery/exhibit-schedule/"><strong>The COVID-19 Response Show</strong></a>\, on view from July 6 - September 3 in&nbsp\;<strong><a href="https://www.earts.org/in-the-gallery/evelyn-peeler-peacock/">The Evelyn Peeler Peacock Gallery</a></strong>&nbsp\;at The ARTS Council.&nbsp\;Gallery hours are Monday-Friday\, 9AM - 5PM.<br />\n<br />\nThis juried exhibition features the visual and written submissions of regional artists responding to the COVID-19 pandemic and is part of a larger COVID-19 Response Project being undertaken by The ARTS Council.<br />\n<br />\nA reception will be held Friday\, July 23\, 4 - 6PM.
LOCATION:The ARTS Council of the Southern Finger Lakes 79 W Market St Corning\, NY 14830
UID:e.869.11831
SEQUENCE:3
DTSTAMP:20260423T103052Z
URL:https://www.corningny.com/events/details/covid-19-response-show-09-03-2021-11831
END:VEVENT

END:VCALENDAR
