BEGIN:VCALENDAR
VERSION:2.0
PRODID:-//ChamberMaster//Event Calendar 2.0//EN
METHOD:PUBLISH
X-PUBLISHED-TTL:P3D
REFRESH-INTERVAL:P3D
CALSCALE:GREGORIAN
BEGIN:VEVENT
DTSTART;VALUE=DATE:20210801
DTEND;VALUE=DATE:20220517
TRANSP:TRANSPARENT
X-MICROSOFT-CDO-ALLDAYEVENT:TRUE
SUMMARY:Crafting Connections: Our Relationship with Handheld Glass
DESCRIPTION:The Junior Curators are a team of inquisitive local students who collaborate with each other and Museum staff to create an annual exhibition. Adapting to the new normal of interacting solely in a virtual environment\, they used digital images of objects and other online resources to explore their love of glass. This year's Junior Curators are the first group in 63 years of the Museum's program to complete their entire project remotely.  \n\nThis year's exhibition\, Crafting Connections: Our Relationship with Handheld Glass\, inspires guests to consider their relationships with personal objects and their connections to people across time and place. Tangible objects can communicate intangible feelings that connect us with family\, friends\, and cultures across different places\, transcending time. Small enough to be held\, the objects on display invite closer inspection.  They can inspire us to consider our own relationships with personal objects in new ways.
X-ALT-DESC;FMTTYPE=text/html:<p><span style="font-size:18px">The Junior Curators are a team of inquisitive local students who collaborate with each other and Museum staff to create an annual exhibition. Adapting to the new normal of interacting solely in a virtual environment\, they used digital images of objects and other online resources to explore their love of glass. This year&rsquo\;s Junior Curators are the first group in 63 years of the Museum&rsquo\;s program to complete their entire project remotely.&nbsp\;&nbsp\;</span></p>\n\n<p><span style="font-size:18px">This year&rsquo\;s exhibition\,&nbsp\;Crafting Connections: Our Relationship with Handheld Glass\, inspires guests to consider their relationships with personal objects and their connections to people across time and place.&nbsp\;Tangible objects can communicate intangible feelings that connect us with family\, friends\, and cultures across different places\, transcending time. Small enough to be held\, the&nbsp\;</span><span style="font-size:18px">objects on display invite closer inspection.&nbsp\; They can inspire us to consider our own relationships with personal objects in new ways.</span></p>\n
LOCATION:The Corning Museum of Glass
UID:e.869.11881
SEQUENCE:3
DTSTAMP:20260425T034814Z
URL:https://www.corningny.com/events/details/crafting-connections-our-relationship-with-handheld-glass-11881
END:VEVENT

END:VCALENDAR
