BEGIN:VCALENDAR
VERSION:2.0
PRODID:-//ChamberMaster//Event Calendar 2.0//EN
METHOD:PUBLISH
X-PUBLISHED-TTL:P3D
REFRESH-INTERVAL:P3D
CALSCALE:GREGORIAN
BEGIN:VEVENT
DTSTART:20260507T210000Z
DTEND:20260508T000000Z
X-MICROSOFT-CDO-ALLDAYEVENT:FALSE
SUMMARY:Crystal City Lights
DESCRIPTION:Celebrate the brilliance of our local business community at Crystal City Lights\, a stylish business-chic cocktail reception highlighting the accomplishments\, anniversaries\, and milestones that make our region thrive. Hosted at the Radisson Hotel Corning\, this evening brings together professionals\, leaders\, and community supporters in a vibrant\, elegant setting.\n\n\n\nGuests will enjoy crafted cocktails and gourmet hors d'oeuvres while connecting with the people and organizations shaping our local economy. A curated soundtrack from a skilled DJ provides a lively\, engaging backdrop as attendees share stories of success\, innovation\, and collaboration. Thoughtful d cor and lighting set the scene for an evening that is both celebratory and sophisticated.\n\n\n\nCrystal City Lights is more than a reception- it's a night to honor the achievements of our local businesses\, recognize the milestones that define them\, and inspire future growth and connection. Join us for an evening of celebration\, community\, and connection\, all within a refined and energetic atmosphere.
X-ALT-DESC;FMTTYPE=text/html:<p data-end="540" data-start="205" style="color: rgb(51\, 51\, 51)\; font-family: sans-serif\, Arial\, Verdana\, &quot\;Trebuchet MS&quot\;\; font-size: 13px\;">&nbsp\;</p>\nCelebrate the brilliance of our local business community at Crystal City Lights\, a stylish business-chic cocktail reception highlighting the accomplishments\, anniversaries\, and milestones that make our region thrive. Hosted at the Radisson Hotel Corning\, this evening brings together professionals\, leaders\, and community supporters in a vibrant\, elegant setting.<br />\n<br />\nGuests will enjoy crafted cocktails and gourmet hors d&rsquo\;oeuvres while connecting with the people and organizations shaping our local economy. A curated soundtrack from a skilled DJ provides a lively\, engaging backdrop as attendees share stories of success\, innovation\, and collaboration. Thoughtful d&eacute\;cor and lighting set the scene for an evening that is both celebratory and sophisticated.<br />\n<br />\nCrystal City Lights is more than a reception- it&rsquo\;s a night to honor the achievements of our local businesses\, recognize the milestones that define them\, and inspire future growth and connection. Join us for an evening of celebration\, community\, and connection\, all within a refined and energetic atmosphere.<br />\n&nbsp\;
LOCATION:Radisson Hotel Corning
UID:e.869.19653
SEQUENCE:3
DTSTAMP:20260419T132849Z
URL:https://www.corningny.com/events/details/crystal-city-lights-19653
END:VEVENT

END:VCALENDAR
