BEGIN:VCALENDAR
VERSION:2.0
PRODID:-//ChamberMaster//Event Calendar 2.0//EN
METHOD:PUBLISH
X-PUBLISHED-TTL:P3D
REFRESH-INTERVAL:P3D
CALSCALE:GREGORIAN
BEGIN:VEVENT
DTSTART:20190111T150000Z
DTEND:20190112T200000Z
X-MICROSOFT-CDO-ALLDAYEVENT:FALSE
SUMMARY:David Sandidge: Guest Artist Demonstration
DESCRIPTION:See guest artist David Sandidge during live\, narrated demonstrations in the Amphitheater Hot Shop on January 11 and 12 from 10 am to 12 pm and 1 to 3 pm. Watch as Sandidge brings one of his fanciful glass figures to life with the help of the Museum's Hot Glass Team.\n\nSandidge was just 15 years old when he started working with glass. Since then\, he has worked as a principal artist for Disney and traveled the globe producing beautiful one-of-a-kind art glass sculptures. He has worked in Disneyland Paris\, Tokyo\, Hong Kong\, and California. He has made numerous trips to various parts of China to teach. He now works out of his home studio in Virginia where he teaches one-on-one workshops for glass students\, and he produces artwork for galleries and fine art festivals.\n\nThese demos are included in the cost of admission (kids and teens 17 and under are free).
X-ALT-DESC;FMTTYPE=text/html:<p>See guest artist David Sandidge during live\, narrated demonstrations in the Amphitheater Hot Shop on January 11 and 12 from 10 am to 12 pm and 1 to 3 pm. Watch as Sandidge brings one of his fanciful glass figures to life with the help of the Museum&#39\;s Hot Glass Team.</p>\n\n<p>Sandidge was just 15 years old when he started working with glass. Since then\, he has worked as a principal artist for Disney and traveled the globe producing beautiful one-of-a-kind art glass sculptures. He has worked in Disneyland Paris\, Tokyo\, Hong Kong\, and California. He has made numerous trips to various parts of China to teach. He now works out of his home studio in Virginia where he teaches one-on-one workshops for glass students\, and he produces artwork for galleries and fine art festivals.</p>\n\n<p><em>These demos are included in the cost of admission (kids and teens 17 and under are free).</em></p>\n
LOCATION:The Corning Museum of Glass - Amphitheater Hot Shop
UID:e.869.9869
SEQUENCE:3
DTSTAMP:20260419T121732Z
URL:https://www.corningny.com/events/details/david-sandidge-guest-artist-demonstration-9869
END:VEVENT

END:VCALENDAR
