BEGIN:VCALENDAR
VERSION:2.0
PRODID:-//ChamberMaster//Event Calendar 2.0//EN
METHOD:PUBLISH
X-PUBLISHED-TTL:P3D
REFRESH-INTERVAL:P3D
CALSCALE:GREGORIAN
BEGIN:VEVENT
DTSTART;VALUE=DATE:20210522
DTEND;VALUE=DATE:20220101
TRANSP:TRANSPARENT
X-MICROSOFT-CDO-ALLDAYEVENT:TRUE
SUMMARY:Dish It! Corelle at 50
DESCRIPTION:Corelle dinnerware\, a staple of U.S. households for five decades\, is enjoyed the world over. To celebrate Corelle's 50th birthday\, the Museum is presenting Dish It! Corelle at 50\, an exhibit giving visitors a behind-the-scenes look at objects they likely use each day. View 50 Corelle patterns you know and love\; see 40 different shapes of dinnerware\; and learn about the people who played important roles in bringing these dishes to your table.
X-ALT-DESC;FMTTYPE=text/html:<span style="color:rgb(0\, 0\, 0)\; font-family:times new roman\,serif\; font-size:16px">Corelle&nbsp\;dinnerware\,&nbsp\;a staple&nbsp\;of U.S. households&nbsp\;for five decades\, is&nbsp\;enjoyed&nbsp\;the world over.&nbsp\;To celebrate Corelle&rsquo\;s 50th birthday\, the Museum is presenting&nbsp\;</span><em>Dish It! Corelle at 50</em><span style="color:rgb(0\, 0\, 0)\; font-family:times new roman\,serif\; font-size:16px">\,&nbsp\;an exhibit&nbsp\;giving visitors a&nbsp\;behind-the-scenes&nbsp\;look at&nbsp\;objects&nbsp\;they likely&nbsp\;use each day. View 50 Corelle patterns you know and love\; see 40 different shapes of dinnerware\; and learn about&nbsp\;the&nbsp\;people who played important roles in bringing these dishes to your table.&nbsp\;</span>
LOCATION:The Corning Museum of Glass
UID:e.869.11766
SEQUENCE:3
DTSTAMP:20260423T114017Z
URL:https://www.corningny.com/events/details/dish-it-corelle-at-50-11766
END:VEVENT

END:VCALENDAR
