BEGIN:VCALENDAR
VERSION:2.0
PRODID:-//ChamberMaster//Event Calendar 2.0//EN
METHOD:PUBLISH
X-PUBLISHED-TTL:P3D
REFRESH-INTERVAL:P3D
CALSCALE:GREGORIAN
BEGIN:VEVENT
DTSTART:20220117T140000Z
DTEND:20220117T220000Z
X-MICROSOFT-CDO-ALLDAYEVENT:FALSE
SUMMARY:Dr. Martin Luther King Jr. Day
DESCRIPTION:Join us as the Museum celebrates the life\, legacy\, and many teachings of Dr. Martin Luther King Jr. The Corning Museum of Glass will offer free admission all day on January 17.\n\nExplore the Museum and take a closer look at works by Vanessa German and Fred Wilson with our new Art Cards. Plus\, create a one-of-a-kind suncatcher featuring the inspirational and empowering words of Reverend Dr. Martin Luther King Jr. at The Studio. This limited-time sandblasting project is open to all ages and available from January 15 17. Reservations required.
X-ALT-DESC;FMTTYPE=text/html:<p style="margin-left:0px\; margin-right:0px">Join us as the Museum celebrates the life\, legacy\, and many teachings of Dr. Martin Luther King Jr. The Corning Museum of Glass will offer&nbsp\;<span style="font-size:18px">free&nbsp\;admission</span>&nbsp\;all day on January 17.</p>\n\n<p>Explore the Museum and take a closer look at works by Vanessa German and Fred Wilson with our new Art Cards. Plus\, create a&nbsp\;<a href="https://visit.cmog.org/make-your-own-glass" style="box-sizing: border-box\; margin: 0px\; padding: 0px\; font-size: 18px\; vertical-align: baseline\; background: transparent\; text-decoration-line: none\; font-weight: 600\; color: rgb(0\, 129\, 133)\; transition: color 0.4s ease 0s\;">one-of-a-kind suncatcher</a>&nbsp\;featuring the inspirational and empowering words of Reverend Dr. Martin Luther King Jr. at The Studio. This limited-time sandblasting project is open to all ages and available from January 15&ndash\;17. Reservations required.&nbsp\;</p>\n
LOCATION:The Corning Museum of Glass
UID:e.869.13647
SEQUENCE:3
DTSTAMP:20260425T034921Z
URL:https://www.corningny.com/events/details/dr-martin-luther-king-jr-day-01-17-2022-13647
END:VEVENT

END:VCALENDAR
