BEGIN:VCALENDAR
VERSION:2.0
PRODID:-//ChamberMaster//Event Calendar 2.0//EN
METHOD:PUBLISH
X-PUBLISHED-TTL:P3D
REFRESH-INTERVAL:P3D
CALSCALE:GREGORIAN
BEGIN:VEVENT
DTSTART;VALUE=DATE:20260119
DTEND;VALUE=DATE:20260120
TRANSP:TRANSPARENT
X-MICROSOFT-CDO-ALLDAYEVENT:TRUE
SUMMARY:Dr. Martin Luther King Jr. Day
DESCRIPTION:Dr. Martin Luther King Jr. Day\n\n\n\n\n\n\n\n\nJanuary 19\, 2026 9:00 am 5:00 pm EST\n\nMuseum-wide\n\n\n\n\nEnjoy free Museum admission and celebrate the life and legacy of Martin Luther King Jr. with activities throughout the Museum! \n\n\n	Enjoy special readings for families at 10 am\, 11 am\, and noon\n	Give back to our community with service activities from 10 am-4 pm:\n	\n		decorate bags for Corning Meals on Wheels\n		create greeting cards for senior citizens and veterans\n	\n	\n	Join us for Public Guided Tours of our galleries at 11 am and 1 pm. (Space is limited\; you may inquire about availability at the Admissions desk.)\n\n\nPlease note Make Your Own Glass projects are not included in
X-ALT-DESC;FMTTYPE=text/html:<div style="background:oklch(1 0 0)\; border:0px\; padding:0px">\n<h1><span style="font-size:60px">Dr. Martin Luther King Jr. Day</span></h1>\n</div>\n\n<div style="background:oklch(1 0 0)\; border:0px\; padding:0px">\n<div style="background:transparent\; border:0px\; padding:0px">\n<div style="background:transparent\; border:0px\; padding:0px">\n<div style="background:transparent\; border:0px\; padding:0px">\n<div style="background:transparent\; border:0px\; margin-left:0px\; margin-right:0px\; padding:0px">\n<div style="background:transparent\; border:0px\; padding:0px">\n<div style="background:transparent\; border:0px\; padding:0px">January 19\, 2026 9:00 am&ndash\;5:00 pm EST</div>\n\n<div style="background:transparent\; border:0px\; padding:0px">Museum-wide</div>\n</div>\n</div>\n\n<div style="background:transparent\; border:0px\; padding:0px">\n<p>Enjoy free Museum admission and celebrate the life and legacy of Martin Luther King Jr. with activities throughout the Museum!&nbsp\;</p>\n\n<ul>\n	<li>Enjoy special readings for families at 10 am\, 11 am\, and noon</li>\n	<li>Give back to our community with service activities from 10 am-4 pm:\n	<ul>\n		<li>decorate bags for Corning Meals on Wheels</li>\n		<li>create greeting cards for senior citizens and veterans</li>\n	</ul>\n	</li>\n	<li>Join us for Public Guided Tours of our galleries at 11 am and 1 pm. (Space is limited\; you may inquire about availability at the Admissions desk.)</li>\n</ul>\n\n<p>Please note&nbsp\;<span style="font-size:15px">Make Your Own Glass&nbsp\;</span>projects are not included in&nbsp\;</p>\n</div>\n</div>\n</div>\n</div>\n</div>\n
LOCATION:
UID:e.869.19655
SEQUENCE:3
DTSTAMP:20260420T214431Z
URL:https://www.corningny.com/events/details/dr-martin-luther-king-jr-day-01-19-2026-19655
END:VEVENT

END:VCALENDAR
