BEGIN:VCALENDAR
VERSION:2.0
PRODID:-//ChamberMaster//Event Calendar 2.0//EN
METHOD:PUBLISH
X-PUBLISHED-TTL:P3D
REFRESH-INTERVAL:P3D
CALSCALE:GREGORIAN
BEGIN:VEVENT
DTSTART:20240511T220000Z
DTEND:20240512T000000Z
X-MICROSOFT-CDO-ALLDAYEVENT:FALSE
SUMMARY:Dustin Dean Magic & Interactive Mentalism Show
DESCRIPTION:Join Corning Society for an evening of mindreading and magic with Dustin Dean Mentalist! The night will start with a 1 hour mentalist show followed by 1 hour of mingling magic 1 on 1 with Dustin!\n\nMentalist and Magician Dustin Dean has been entertaining corporations\, colleges\, and audiences for private and public events of all sizes for over a decade.\n\nHe is a viral phenomenon with over 100 Million Views worldwide\, as well as multiple television performances..\n\n"As a Mentalist\, I use various real world techniques to create the illusion of something "supernatural." I use these skills to app ear to reach inside my audience's minds\, read their thoughts\, and predict their actions. All of this is done in an interactive and entertaining experience that I 100% guarantee your guests will never forget!"\n\nWe look forward to sharing a rare opportunity to experience the magic and excitement of mindreading and magic!
X-ALT-DESC;FMTTYPE=text/html:<p>Join Corning Society for an evening of mindreading and magic with Dustin Dean Mentalist! The night will start with a 1 hour mentalist show followed by 1 hour of mingling magic 1 on 1 with Dustin!</p>\n\n<p><strong><a href="https://www.dustindeanmentalist.com/" rel="noreferrer noopener" style="box-sizing: inherit\; cursor: pointer\;" target="_blank">Mentalist and Magician Dustin Dean</a></strong>&nbsp\;has been entertaining corporations\, colleges\, and audiences for private and public events of all sizes for&nbsp\;<strong>over a decade</strong>.</p>\n\n<p>He is a&nbsp\;<strong>viral phenomenon</strong>&nbsp\;with over&nbsp\;<strong>100 Million Views</strong>&nbsp\;worldwide\, as well as&nbsp\;<strong>multiple television performances..</strong></p>\n\n<p>&quot\;<em>As a Mentalist\, I use various real world techniques to create the illusion of something &ldquo\;supernatural.&rdquo\; I use these skills to app ear to reach inside my audience&rsquo\;s minds\, read their thoughts\, and predict their actions. All of this is done in an interactive and entertaining experience that I 100% guarantee your guests will never forget!</em>&quot\;</p>\n\n<p>We look forward to sharing a rare opportunity to experience the magic and excitement of mindreading and magic!</p>\n
LOCATION:The Office on Market Street 70 West Market Street Corning\, NY 14830
UID:e.869.17633
SEQUENCE:3
DTSTAMP:20260426T034258Z
URL:https://www.corningny.com/events/details/dustin-dean-magic-interactive-mentalism-show-17633
END:VEVENT

END:VCALENDAR
