BEGIN:VCALENDAR
VERSION:2.0
PRODID:-//ChamberMaster//Event Calendar 2.0//EN
METHOD:PUBLISH
X-PUBLISHED-TTL:P3D
REFRESH-INTERVAL:P3D
CALSCALE:GREGORIAN
BEGIN:VEVENT
DTSTART:20260205T133000Z
DTEND:20260205T150000Z
X-MICROSOFT-CDO-ALLDAYEVENT:FALSE
SUMMARY:Educational Programming- Social Media Trends for 2026
DESCRIPTION:Sean Lukasik from Creagent Marketing will share his annual presentation about social media trends. As a group\, explore the most relevant marketing trends and expectations for 2026 as well as social media stats and predictions. Share your own observations and learn from marketing professionals and business owners around the region.
X-ALT-DESC;FMTTYPE=text/html:<!--StartFragment--><span data-olk-copy-source="MessageBody">Sean Lukasik from Creagent Marketing will share his annual presentation about social media trends. As a group\, explore the most relevant marketing trends and expectations for 2026 as well as social media stats and predictions. Share your own observations and learn from marketing professionals and business owners around the region.&nbsp\;</span><!--EndFragment-->
LOCATION:The Radisson Hotel Corning
UID:e.869.19661
SEQUENCE:3
DTSTAMP:20260420T214257Z
URL:https://www.corningny.com/events/details/educational-programming-social-media-trends-for-2026-19661
END:VEVENT

END:VCALENDAR
