BEGIN:VCALENDAR
VERSION:2.0
PRODID:-//ChamberMaster//Event Calendar 2.0//EN
METHOD:PUBLISH
X-PUBLISHED-TTL:P3D
REFRESH-INTERVAL:P3D
CALSCALE:GREGORIAN
BEGIN:VEVENT
DTSTART:20230831T200000Z
DTEND:20230901T020000Z
X-MICROSOFT-CDO-ALLDAYEVENT:FALSE
SUMMARY:End of Summer Music Fest
DESCRIPTION:While summer is winding down\, Market Street Social will be heating up when it presents its first annual End-of-Summer Music Fest\, August 31st through September 3rd.   The "free" festival at Radisson Corning's outdoor dining and entertainment venue is a celebration of the area's vibrant music scene\, with four days of local artists as well as games\, activities\, and summer foods and drinks.  In addition\, there will be daily fundraising opportunities for the United Way of the Southern Tier\, the beneficiary which is dedicated to taking care of people who need food or shelter.  This charitable effort for United Way will also coincide with the inauguration of the hotel's voluntary employee donation program.  \n\n \n\nThe Music and Food\n\nEnd-of-Summer Music Fest will kick off daily with an opening act before the nightly headliner takes the stage followed by a chill unplugged session under the stars to close things out (schedule follows below   on Aug 31 only a headliner will perform).   Besides the tunes\, Executive Chef Bill Winnie will satisfy those insatiable summer appetites each day by manning the outdoor grill and personally cooking up a selection of sliders\, Italian sausage\, and chicken skewers to go along with other event F&B specials like flatbread pizzas\, pretzel rods with cheddar beer sauce\, and steamed clams as well as an assortment of refreshing adult slushies and buckets of beer.  Guests are also invited to further lean into summer nostalgia by cozying around Market Street Social's firepits and trying their hand at roasting S'mores while the music plays on.  Market Street Social's full contemporary American\, farm-driven menu and beverage list will be available upon request too.  \n\n \n\nThe Activities and Accommodations \n\nWhen it comes to gaming\, End-of-Summer Music Fest is pulling out all the stops.  Cornhole\, Giant Jenga\, Giant Connect 4\, Bocce Ball\, and Croquet will be among the various friendly tournaments running all weekend on Market Street Social's sprawling lawns.  For $1\, guests can purchase raffle tickets benefitting the event's designated charity partner\, United Way of the Southern Tier\, for a chance at hand selected bottles of wine by the hotel's Food & Beverage Director Will Bradley.   Also outside on the lawns will be free pre-fest yoga classes (with a donation to United Way) on Saturday and Sunday from 2 pm to 3 pm followed by complimentary mimosas.  To top it off\, for all those who'd like to make it a multi-day experience\, the Radisson is offering an End-of-Summer staycation package that includes guestroom accommodations with full breakfast for two\, specialty cocktails for two\, and S'mores kits they could enjoy together at Market Street Social.  \n\n \n\nMusic Fest Line Up:\n\nThur\, Aug 31:\n\n6pm to 9pm Virgil Cain\n\n \n\nFri\, Sept 1:\n\n5pm to 6 pm Brian Moore \n\n6pm to 9pm Can't Count Trio\n\n9pm to 10pm Late Night with Lee\n\n \n\nSat\, Sept 2:\n\n5pm to 6 pm Opening act TBD\n\n6pm to 9pm Mike Gianonne\n\n9pm to 10pm Late Night with Lee\n\n \n\nSun\, Sept 3:\n\n4pm to 6pm Kenny Ende\n\n6pm to 9pm Sam Swanson
X-ALT-DESC;FMTTYPE=text/html:<div>While summer is winding down\, Market Street Social will be heating up when it presents its first annual End-of-Summer Music Fest\, August 31st through September 3rd.&nbsp\; &nbsp\;The &ldquo\;free&rdquo\; festival at Radisson Corning&rsquo\;s outdoor dining and entertainment venue is a celebration of the area&rsquo\;s vibrant music scene\, with four days of local artists as well as games\, activities\, and summer foods and drinks.&nbsp\; In addition\, there will be daily fundraising opportunities for the United Way of the Southern Tier\, the beneficiary which is dedicated to taking care of people who need food or shelter.&nbsp\; This charitable effort for United Way will also coincide with the inauguration of the hotel&rsquo\;s voluntary employee donation program.&nbsp\;&nbsp\;</div>\n\n<div>&nbsp\;</div>\n\n<div>The Music and Food</div>\n\n<div>End-of-Summer Music Fest will kick off daily with an opening act before the nightly headliner takes the stage followed by a chill unplugged session under the stars to close things out (schedule follows below &ndash\; on Aug 31 only a headliner will perform).&nbsp\; &nbsp\;Besides the tunes\, Executive Chef Bill Winnie will satisfy those insatiable summer appetites each day by manning the outdoor grill and personally cooking up a selection of sliders\, Italian sausage\, and chicken skewers to go along with other event F&amp\;B specials like flatbread pizzas\, pretzel rods with cheddar beer sauce\, and steamed clams as well as an assortment of refreshing adult slushies and buckets of beer.&nbsp\; Guests are also invited to further lean into summer nostalgia by cozying around Market Street Social&rsquo\;s firepits and trying their hand at roasting S&rsquo\;mores while the music plays on.&nbsp\; Market Street Social&rsquo\;s full contemporary American\, farm-driven menu and beverage list will be available upon request too.&nbsp\;&nbsp\;</div>\n\n<div>&nbsp\;</div>\n\n<div>The Activities and Accommodations&nbsp\;</div>\n\n<div>When it comes to gaming\, End-of-Summer Music Fest is pulling out all the stops.&nbsp\; Cornhole\, Giant Jenga\, Giant Connect 4\, Bocce Ball\, and Croquet will be among the various friendly tournaments running all weekend on Market Street Social&rsquo\;s sprawling lawns.&nbsp\; For $1\, guests can purchase raffle tickets benefitting the event&rsquo\;s designated charity partner\, United Way of the Southern Tier\, for a chance at hand selected bottles of wine by the hotel&rsquo\;s Food &amp\; Beverage Director Will Bradley.&nbsp\; &nbsp\;Also outside on the lawns will be free pre-fest yoga classes (with a donation to United Way) on Saturday and Sunday from 2 pm to 3 pm followed by complimentary mimosas.&nbsp\; To top it off\, for all those who&rsquo\;d like to make it a multi-day experience\, the Radisson is offering an End-of-Summer staycation package that includes guestroom accommodations with full breakfast for two\, specialty cocktails for two\, and S&rsquo\;mores kits they could enjoy together at Market Street Social.&nbsp\;&nbsp\;</div>\n\n<div>&nbsp\;</div>\n\n<div>Music Fest Line Up:</div>\n\n<div>Thur\, Aug 31:</div>\n\n<div>6pm to 9pm Virgil Cain</div>\n\n<div>&nbsp\;</div>\n\n<div>Fri\, Sept 1:</div>\n\n<div>5pm to 6 pm Brian Moore&nbsp\;</div>\n\n<div>6pm to 9pm Can&#39\;t Count Trio</div>\n\n<div>9pm to 10pm Late Night with Lee</div>\n\n<div>&nbsp\;</div>\n\n<div>Sat\, Sept 2:</div>\n\n<div>5pm to 6 pm Opening act TBD</div>\n\n<div>6pm to 9pm Mike Gianonne</div>\n\n<div>9pm to 10pm Late Night with Lee</div>\n\n<div>&nbsp\;</div>\n\n<div>Sun\, Sept 3:</div>\n\n<div>4pm to 6pm Kenny Ende</div>\n\n<div>6pm to 9pm Sam Swanson</div>\n
LOCATION:Radisson Hotel Corning: 125 Denison Pkwy E\, Corning\, NY
UID:e.869.17386
SEQUENCE:3
DTSTAMP:20260422T004349Z
URL:https://www.corningny.com/events/details/end-of-summer-music-fest-17386
END:VEVENT

END:VCALENDAR
