BEGIN:VCALENDAR
VERSION:2.0
PRODID:-//ChamberMaster//Event Calendar 2.0//EN
METHOD:PUBLISH
X-PUBLISHED-TTL:P3D
REFRESH-INTERVAL:P3D
CALSCALE:GREGORIAN
BEGIN:VEVENT
DTSTART;VALUE=DATE:20230209
DTEND;VALUE=DATE:20230210
TRANSP:TRANSPARENT
X-MICROSOFT-CDO-ALLDAYEVENT:TRUE
SUMMARY:Ennion Happy Hour | Featuring Studio Artists
DESCRIPTION:Gather with fellow Ennion members and Studio artists for drinks\, bites\, and glassy conversation. \n\nNot an Ennion Member? Please visit our website or call the Museum for more information on how to become a member today!
X-ALT-DESC;FMTTYPE=text/html:<span style="color:rgb(0\, 0\, 0)\; font-family:avenirltpro\,avenir\,century gothic\,centurygothic\,applegothic\,sans-serif\; font-size:18px">Gather with fellow Ennion members and Studio artists for drinks\, bites\, and glassy conversation.&nbsp\;</span><br />\nNot an Ennion Member? Please visit our website or call the Museum for more information on how to become a member today!
LOCATION:Auditorium.
UID:e.869.14032
SEQUENCE:3
DTSTAMP:20260424T155048Z
URL:https://www.corningny.com/events/details/ennion-happy-hour-featuring-studio-artists-14032
END:VEVENT

END:VCALENDAR
