BEGIN:VCALENDAR
VERSION:2.0
PRODID:-//ChamberMaster//Event Calendar 2.0//EN
METHOD:PUBLISH
X-PUBLISHED-TTL:P3D
REFRESH-INTERVAL:P3D
CALSCALE:GREGORIAN
BEGIN:VEVENT
DTSTART:20220924T120000Z
DTEND:20220924T190000Z
X-MICROSOFT-CDO-ALLDAYEVENT:FALSE
SUMMARY:Fall Car Show
DESCRIPTION:Come out to The Windmill for the annual Fall Car Show. Enjoy lots of Vintage Iron\, Live music by Seneca Jam\, Delicious Food and Great Shopping.
X-ALT-DESC;FMTTYPE=text/html:Come out to The Windmill for the annual Fall Car Show. Enjoy lots of Vintage Iron\, Live music by Seneca Jam\, Delicious Food and Great Shopping.&nbsp\;
LOCATION:The Windmill Farm and Craft Market\, 3900 State Route 14A\, Penn Yan\, NY 14527
UID:e.869.13887
SEQUENCE:3
DTSTAMP:20260421T190048Z
URL:https://www.corningny.com/events/details/fall-car-show-09-24-2022-13887
END:VEVENT

END:VCALENDAR
