BEGIN:VCALENDAR
VERSION:2.0
PRODID:-//ChamberMaster//Event Calendar 2.0//EN
METHOD:PUBLISH
X-PUBLISHED-TTL:P3D
REFRESH-INTERVAL:P3D
CALSCALE:GREGORIAN
BEGIN:VEVENT
DTSTART:20210925T150000Z
DTEND:20210925T190000Z
X-MICROSOFT-CDO-ALLDAYEVENT:FALSE
SUMMARY:Fall Heritage Festival
DESCRIPTION:Come join us at the Fall Heritage Festival for an afternoon of fun for the family.  The festival will have various demonstrators\, kid activities\, music\, a bake sale\, country store and food throughout the day.  This event continues our 225th anniversary celebration at the Patterson Inn.  Come spend an hour or the day immersed in living history.
X-ALT-DESC;FMTTYPE=text/html:Come join us at the Fall Heritage Festival for an afternoon of fun for the family.&nbsp\; The festival will have various demonstrators\, kid activities\, music\, a bake sale\, country store and food throughout the day.&nbsp\; This event continues our 225th anniversary celebration at the Patterson Inn.&nbsp\; Come spend an hour or the day immersed in living history.
LOCATION:Heritage Village of the Southern Finger Lakes 73 West Pulteney Street Corning\, NY 14830
UID:e.869.11916
SEQUENCE:3
DTSTAMP:20260423T091213Z
URL:https://www.corningny.com/events/details/fall-heritage-festival-11916
END:VEVENT

END:VCALENDAR
