BEGIN:VCALENDAR
VERSION:2.0
PRODID:-//ChamberMaster//Event Calendar 2.0//EN
METHOD:PUBLISH
X-PUBLISHED-TTL:P3D
REFRESH-INTERVAL:P3D
CALSCALE:GREGORIAN
BEGIN:VEVENT
DTSTART:20190104T230000Z
DTEND:20190105T010000Z
X-MICROSOFT-CDO-ALLDAYEVENT:FALSE
SUMMARY:First Friday Family Night at the Corning YMCA
DESCRIPTION:Each month\, the YMCA features a themed event for all ages.\n\nJoin us for Nerf Night!
X-ALT-DESC;FMTTYPE=text/html:Each month\, the YMCA features a themed event for all ages.<br />\nJoin us for Nerf Night!
LOCATION:Corning Community YMCA 127 Centerway Corning\, NY 14830
UID:e.869.9886
SEQUENCE:3
DTSTAMP:20260419T122142Z
URL:https://www.corningny.com/events/details/first-friday-family-night-at-the-corning-ymca-01-04-2019-9886
END:VEVENT

END:VCALENDAR
