BEGIN:VCALENDAR
VERSION:2.0
PRODID:-//ChamberMaster//Event Calendar 2.0//EN
METHOD:PUBLISH
X-PUBLISHED-TTL:P3D
REFRESH-INTERVAL:P3D
CALSCALE:GREGORIAN
BEGIN:VEVENT
DTSTART;VALUE=DATE:20211001
DTEND;VALUE=DATE:20211012
TRANSP:TRANSPARENT
X-MICROSOFT-CDO-ALLDAYEVENT:TRUE
SUMMARY:Glass Farmer's Market
DESCRIPTION:Jump into fall and shop the Glass Farmer's Market!\n\n\n\n\nEnjoy a full fall display where you can choose from thousands of glass pumpkins\, acorns\, and more. You'll find the best in handmade glass\, ready and waiting to be picked and perfect to adorn your fall table.\n\nPlus save 20% on regularly priced items in store only. Some exclusions may apply.
X-ALT-DESC;FMTTYPE=text/html:<div style="background:transparent\; border:0px\; padding:0px">\n<p>Jump into fall and shop the Glass Farmer&#39\;s Market!</p>\n</div>\n\n<div style="background:transparent\; border:0px\; padding:0px">\n<div style="background:transparent\; border:0px\; padding:0px">\n<p>Enjoy a full fall display where you can choose from thousands of glass pumpkins\, acorns\, and more. You&rsquo\;ll find the best in handmade glass\, ready and waiting to be picked and perfect to adorn your fall table.</p>\n\n<p>Plus save 20% on regularly priced items in store only. Some exclusions may apply.</p>\n</div>\n</div>\n
LOCATION:The Corning Museum of Glass
UID:e.869.11941
SEQUENCE:3
DTSTAMP:20260423T103718Z
URL:https://www.corningny.com/events/details/glass-farmer-s-market-11941
END:VEVENT

END:VCALENDAR
