BEGIN:VCALENDAR
VERSION:2.0
PRODID:-//ChamberMaster//Event Calendar 2.0//EN
METHOD:PUBLISH
X-PUBLISHED-TTL:P3D
REFRESH-INTERVAL:P3D
CALSCALE:GREGORIAN
BEGIN:VEVENT
DTSTART:20220110T140000Z
DTEND:20220306T220000Z
X-MICROSOFT-CDO-ALLDAYEVENT:FALSE
SUMMARY:Glass Snow Family
DESCRIPTION:Our snowpeople are guaranteed to last the whole winter through and then some! Don't miss our 6-foot snow family\, their two 3-foot-tall snow kids\, and their pet snow dog Pi-Rex\, made by Hot Glass Demo glassmaker George Kennard and team. It's a great photo opportunity!\n\nPlus\, warm up in our Make Your Own Glass Studio and make your own glass snowperson\, or buy one (or two) in our Shops.
X-ALT-DESC;FMTTYPE=text/html:<p>Our snowpeople&nbsp\;are guaranteed to last the whole winter through&mdash\;and then some! Don&rsquo\;t miss our 6-foot snow family\, their two 3-foot-tall snow kids\, and their pet snow dog Pi-Rex\, made by Hot Glass Demo glassmaker&nbsp\;<a href="https://www.cmog.org/bio/george-kennard" style="box-sizing: border-box\; margin: 0px\; padding: 0px\; font-size: 18px\; vertical-align: baseline\; background: transparent\; text-decoration-line: none\; font-weight: 600\; color: rgb(0\, 129\, 133)\; transition: color 0.4s ease 0s\;">George Kennard&nbsp\;</a>and team. It&#39\;s a great photo opportunity!</p>\n\n<p>Plus\, warm up in our&nbsp\;<span style="font-size:18px">Make Your Own Glass</span>&nbsp\;Studio and make your own glass snowperson\, or buy one (or two) in our Shops.&nbsp\;</p>\n
LOCATION:The Corning Museum of Glass
UID:e.869.12969
SEQUENCE:3
DTSTAMP:20260425T023047Z
URL:https://www.corningny.com/events/details/glass-snow-family-01-10-2022-12969
END:VEVENT

END:VCALENDAR
