BEGIN:VCALENDAR
VERSION:2.0
PRODID:-//ChamberMaster//Event Calendar 2.0//EN
METHOD:PUBLISH
X-PUBLISHED-TTL:P3D
REFRESH-INTERVAL:P3D
CALSCALE:GREGORIAN
BEGIN:VEVENT
DTSTART;VALUE=DATE:20200117
DTEND;VALUE=DATE:20200120
TRANSP:TRANSPARENT
X-MICROSOFT-CDO-ALLDAYEVENT:TRUE
SUMMARY:Global Eats & Local Wine
DESCRIPTION:Global Eats & Local Wine\n\nJanuary 17 - 19\, 2020\n\nFri 12-5pm\, Sat/Sun 10am-5pm\n\nInternational flavor comes to Seneca Lake!?  Enjoy a self-guided tour around Seneca Lake while exploring the unique\, delicious pairings of Seneca Lake wines with foods from a variety of nations and cultures at 21 participating Seneca Lake Wine Trail wineries.  Tickets are $40 per person.
X-ALT-DESC;FMTTYPE=text/html:<strong><span style="color:#111111">Global Eats &amp\; Local Wine</span></strong><br />\n<span style="color:#111111">January 17 - 19\, 2020</span><br />\n<span style="color:#111111">Fri 12-5pm\, Sat/Sun 10am-5pm</span><br />\n<em><span style="color:#111111">International flavor comes to Seneca Lake!?&nbsp\; </span><span style="color:black">Enjoy a self-guided tour around Seneca Lake while exploring the unique\, delicious pairings of Seneca Lake wines with foods from a variety of nations and cultures at 21 participating Seneca Lake Wine Trail </span>wineries.&nbsp\;&nbsp\;</em>Tickets are $40 per person.
LOCATION:Wineries along the Seneca Lake Wine Trail
UID:e.869.11005
SEQUENCE:3
DTSTAMP:20260423T072254Z
URL:https://www.corningny.com/events/details/global-eats-local-wine-11005
END:VEVENT

END:VCALENDAR
