BEGIN:VCALENDAR
VERSION:2.0
PRODID:-//ChamberMaster//Event Calendar 2.0//EN
METHOD:PUBLISH
X-PUBLISHED-TTL:P3D
REFRESH-INTERVAL:P3D
CALSCALE:GREGORIAN
BEGIN:VEVENT
DTSTART:20261107T230000Z
DTEND:20261108T020000Z
X-MICROSOFT-CDO-ALLDAYEVENT:FALSE
SUMMARY:Hands of Hope Gala
DESCRIPTION:Enjoy dinner\, music and more at our signature annual event\, the Hands of Hope Gala. Formal attire requested\, black tie optional\n\nNovember 7\, 2026\n\nElmira Country Club\n\n1538 West Church St\, Elmira\, NY 14905
X-ALT-DESC;FMTTYPE=text/html:<p>Enjoy dinner\, music and more at our signature annual event\, the Hands of Hope Gala. Formal attire requested\, black tie optional</p>\n\n<p>November 7\, 2026</p>\n\n<p>Elmira Country Club</p>\n\n<p>1538 West Church St\, Elmira\, NY 14905</p>\n\n<p>&nbsp\;</p>\n
LOCATION:Elmira Country Club 1538 West Church St\, Elmira\, NY 14905
UID:e.869.19631
SEQUENCE:3
DTSTAMP:20260420T152200Z
URL:https://www.corningny.com/events/details/hands-of-hope-gala-11-07-2026-19631
END:VEVENT

END:VCALENDAR
