BEGIN:VCALENDAR
VERSION:2.0
PRODID:-//ChamberMaster//Event Calendar 2.0//EN
METHOD:PUBLISH
X-PUBLISHED-TTL:P3D
REFRESH-INTERVAL:P3D
CALSCALE:GREGORIAN
BEGIN:VEVENT
DTSTART;VALUE=DATE:20230211
DTEND;VALUE=DATE:20230215
TRANSP:TRANSPARENT
X-MICROSOFT-CDO-ALLDAYEVENT:TRUE
SUMMARY:Have a Heart for Valentine's Day
DESCRIPTION:Join us Valentine's Day weekend and leave a real-life "like" next to your favorite piece in our collection. Museum guests who visit on February 11\, 12\, 13\, or 14 will get a heart-shaped sticker to "show us the love." Place your heart sticker next to your favorite piece in the collection\, but choose wisely you'll only have one sticker.\n\nWe can't wait to see what our guests really "heart". After all of the stickers have been collected\, we will tally the results for a "favorites" list that we'll share with you. Go ahead\, leave us a like this Valentine's Day!
X-ALT-DESC;FMTTYPE=text/html:<p style="margin-left:0px\; margin-right:0px">Join us Valentine&rsquo\;s Day weekend and leave a real-life &quot\;like&quot\; next to your favorite piece in our collection. Museum guests who visit on February 11\, 12\, 13\, or 14 will get a heart-shaped sticker to &quot\;show us the love.&quot\; Place your heart sticker next to your favorite piece in the collection\, but choose wisely&ndash\;you&#39\;ll only have one sticker.</p>\n\n<p>We can&#39\;t wait to see what our guests really &quot\;heart&quot\;. After all of the stickers have been collected\, we will tally the results for a &ldquo\;favorites&rdquo\; list that we&#39\;ll share with you. Go ahead\, leave us a like this Valentine&#39\;s Day!</p>\n
LOCATION:The Corning Museum of Glass
UID:e.869.14038
SEQUENCE:3
DTSTAMP:20260424T141809Z
URL:https://www.corningny.com/events/details/have-a-heart-for-valentine-s-day-14038
END:VEVENT

END:VCALENDAR
