BEGIN:VCALENDAR
VERSION:2.0
PRODID:-//ChamberMaster//Event Calendar 2.0//EN
METHOD:PUBLISH
X-PUBLISHED-TTL:P3D
REFRESH-INTERVAL:P3D
CALSCALE:GREGORIAN
BEGIN:VEVENT
DTSTART:20190119T140000Z
DTEND:20190119T170000Z
X-MICROSOFT-CDO-ALLDAYEVENT:FALSE
SUMMARY:Heritage Village of the Southern Finger Lakes-Spinning Classes
DESCRIPTION:The Heritage Village of the Southern Finger Lakes\, 59 W. Pulteney ST. Corning\, NY\, will be hosting "Learn to Spin at the Patterson Inn"\, on Saturday\, January 12 and 19\, 2019 from 9:00 am-12:00 pm. The cost is $80 for both sessions.  These workshops are designed for beginners and experienced spinners ages 12 and up who want to learn more about spinning.  The workshop will help you become familiar with a spinning wheel\, how to maintain it and spin fiber into thread.  Fiber will be provided for all participants.  You are welcome to bring your own spinning wheel to the workshop.  Take advantage of this hands-on workshop with two expert spinning instructors.  To register or for more information\, please call 607 937-5281or send a message to info@HeritageVillageSFL.org.
X-ALT-DESC;FMTTYPE=text/html:<span style="font-family:century gothic\,sans-serif\;">The Heritage Village of the Southern Finger Lakes\, 59 W. Pulteney ST. Corning\, NY\, will be hosting &ldquo\;Learn to Spin at the Patterson Inn&rdquo\;\, on Saturday\, January 12 and 19\, 2019 from 9:00 am-12:00 pm. The cost is $80 for both sessions.&nbsp\; These workshops are designed for beginners and experienced spinners ages 12 and up who want to learn more about spinning.&nbsp\; The workshop will help you become familiar with a spinning wheel\, how to maintain it and spin fiber into thread.&nbsp\; Fiber will be provided for all participants.&nbsp\; You are welcome to bring your own spinning wheel to the workshop.&nbsp\; Take advantage of this hands-on workshop with two expert spinning instructors.&nbsp\; To register or for more information\, please call 607 937-5281or send a message to <a href="mailto:info@HeritageVillageSFL.org">info@HeritageVillageSFL.org</a></span>.
LOCATION:Heritage Village of the Southern Finger Lakes 73 W. Pulteney Street Corning\, NY 14830
UID:e.869.10100
SEQUENCE:3
DTSTAMP:20260419T122421Z
URL:https://www.corningny.com/events/details/heritage-village-of-the-southern-finger-lakes-spinning-classes-01-19-2019-10100
END:VEVENT

END:VCALENDAR
